BEGIN:VCALENDAR
VERSION:2.0
PRODID:-//Ensemble Paroissial de Bagnols-sur-C&egrave;ze - ECPv6.15.20//NONSGML v1.0//EN
CALSCALE:GREGORIAN
METHOD:PUBLISH
X-ORIGINAL-URL:https://cathobagnols.fr
X-WR-CALDESC:Évènements pour Ensemble Paroissial de Bagnols-sur-C&egrave;ze
REFRESH-INTERVAL;VALUE=DURATION:PT1H
X-Robots-Tag:noindex
X-PUBLISHED-TTL:PT1H
BEGIN:VTIMEZONE
TZID:UTC
BEGIN:STANDARD
TZOFFSETFROM:+0000
TZOFFSETTO:+0000
TZNAME:UTC
DTSTART:20250101T000000
END:STANDARD
END:VTIMEZONE
BEGIN:VEVENT
DTSTART;TZID=UTC:20260419T090000
DTEND;TZID=UTC:20260419T190000
DTSTAMP:20260419T133921
CREATED:20260220T154522Z
LAST-MODIFIED:20260320T141120Z
UID:5255-1776589200-1776625200@cathobagnols.fr
SUMMARY:Journée Traits d’Union à Saint Gervais
DESCRIPTION:Une journée paroissiale à vivre en famille et avec des amis.\nUne journée pour tisser des liens\, nourrir nos relations fraternelles. \nUne journée qui fait du bien à tous \nUne journée de rassemblement paroissial : une seule messe à 16h à l’église de St Gervais \n(pas de messe à Bagnols ce dimanche matin).
URL:https://cathobagnols.fr/event/journee-traits-dunion/
LOCATION:Eglise de St Gervais\, Place de l'Église\, Saint-Gervais\, 30200\, France
ORGANIZER;CN="Ensemble Paroissial de Bagnols sur C%C3%A8ze":MAILTO:paroisse.stjeanbaptiste@orange.fr
END:VEVENT
BEGIN:VEVENT
DTSTART;TZID=UTC:20260420T080000
DTEND;TZID=UTC:20260424T170000
DTSTAMP:20260419T133921
CREATED:20260220T154756Z
LAST-MODIFIED:20260417T203854Z
UID:5257-1776672000-1777050000@cathobagnols.fr
SUMMARY:Pèlerinage de printemps à Lourdes
DESCRIPTION:PÉLERINAGE DE PRINTEMPS À LOURDES\, 20 – 24 Avril. \nVous êtes malades\, handicapés ou tout simplement affaiblis par le grand âge\, l’Hospitalité St Jean-\nPaul II du Diocèse de Nîmes vous accompagne en pèlerinage à LOURDES. \nContacter Jeanne-Marie Guyon au 06 82 67 31 13\nDate limite des inscriptions : 15 Mars \nprière de bénédiction des pèlerins à 6h à l’Ancise
URL:https://cathobagnols.fr/event/pelerinage-de-printemps-a-lourdes/
END:VEVENT
BEGIN:VEVENT
DTSTART;TZID=UTC:20260421T150000
DTEND;TZID=UTC:20260421T160000
DTSTAMP:20260419T133921
CREATED:20260417T204024Z
LAST-MODIFIED:20260417T204024Z
UID:5487-1776783600-1776787200@cathobagnols.fr
SUMMARY:Messe à l’EHPAD de Bonnefond
DESCRIPTION:accessible à tous les paroissiens.
URL:https://cathobagnols.fr/event/messe-a-lehpad-de-bonnefond-3/
LOCATION:EHPAD Bonnefond\, 4 bis Montée des Oliviers\, Bagnols sur Cèze\, 30200\, France
ORGANIZER;CN="Ensemble Paroissial de Bagnols sur C%C3%A8ze":MAILTO:paroisse.stjeanbaptiste@orange.fr
END:VEVENT
BEGIN:VEVENT
DTSTART;TZID=UTC:20260424T180000
DTEND;TZID=UTC:20260424T213000
DTSTAMP:20260419T133921
CREATED:20250621T144505Z
LAST-MODIFIED:20250621T144505Z
UID:4367-1777053600-1777066200@cathobagnols.fr
SUMMARY:Soirée aumonerie
DESCRIPTION:6°-5° : 18h\n4°-3° & Lycéens : 19h
URL:https://cathobagnols.fr/event/soiree-aumonerie/
LOCATION:Espace Saint Jean XXIII\, chapelle de l'ancyse\, BAGNOLS SUR CEZE\, 30200\, France
END:VEVENT
BEGIN:VEVENT
DTSTART;TZID=UTC:20260425T100000
DTEND;TZID=UTC:20260425T110000
DTSTAMP:20260419T133921
CREATED:20260411T013240Z
LAST-MODIFIED:20260411T013240Z
UID:5470-1777111200-1777114800@cathobagnols.fr
SUMMARY:Baptême à St Jean Baptiste de Bagnols
DESCRIPTION:
URL:https://cathobagnols.fr/event/bapteme-a-st-jean-baptiste-de-bagnols-2/
LOCATION:Eglise Saint Jean-Baptiste\, 6 Pl. Saint-Jean 4\,\, Bagnols-sur-Cèze\, france\, 30200
ORGANIZER;CN="Ensemble Paroissial de Bagnols sur C%C3%A8ze":MAILTO:paroisse.stjeanbaptiste@orange.fr
END:VEVENT
BEGIN:VEVENT
DTSTART;TZID=UTC:20260425T140000
DTEND;TZID=UTC:20260425T200000
DTSTAMP:20260419T133921
CREATED:20260203T072014Z
LAST-MODIFIED:20260411T014109Z
UID:5188-1777125600-1777147200@cathobagnols.fr
SUMMARY:Conférence sur « handicap psychique et vie spirituelle "
DESCRIPTION:Conférence organisée par la pastorale diocésaine des personnes handicapées\n La conférence sera animée par le Père Christophe Silvestre\, prêtre du diocèse de Nîmes.\n« La vie spirituelle est une ressource pour unifier sa vie lorsqu’elle est marquée par les épreuves et aide à construire une autre représentation de soi et de la maladie. La vie spirituelle a besoin d’être accompagnée\, notamment dans le handicap ou la maladie psychique\, lesquels peuvent avoir pour effet soit de l’annihiler\, soit d’amplifier la réalité spirituelle au point de faire sortir du réel. La vie spirituelle nous conduit à l’ouverture sur la relation à l’autre. »
URL:https://cathobagnols.fr/event/conference-sur-handicap-psychique-et-vie-spirituelle/
LOCATION:Espace Saint Jean XXIII\, chapelle de l'ancyse\, BAGNOLS SUR CEZE\, 30200\, France
ORGANIZER;CN="Ensemble Paroissial de Bagnols sur C%C3%A8ze":MAILTO:paroisse.stjeanbaptiste@orange.fr
END:VEVENT
BEGIN:VEVENT
DTSTART;TZID=UTC:20260425T160000
DTEND;TZID=UTC:20260425T170000
DTSTAMP:20260419T133921
CREATED:20260417T204220Z
LAST-MODIFIED:20260417T204220Z
UID:5489-1777132800-1777136400@cathobagnols.fr
SUMMARY:Mariage à St Pons la Calm
DESCRIPTION:
URL:https://cathobagnols.fr/event/mariage-a-st-pons-la-calm/
LOCATION:Eglise de Saint Pons la Calm\, Saint pons la Calm\, France
ORGANIZER;CN="Ensemble Paroissial de Bagnols sur C%C3%A8ze":MAILTO:paroisse.stjeanbaptiste@orange.fr
END:VEVENT
BEGIN:VEVENT
DTSTART;TZID=UTC:20260426T120000
DTEND;TZID=UTC:20260426T130000
DTSTAMP:20260419T133921
CREATED:20260417T204846Z
LAST-MODIFIED:20260417T204846Z
UID:5491-1777204800-1777208400@cathobagnols.fr
SUMMARY:Baptême à Sabran
DESCRIPTION:
URL:https://cathobagnols.fr/event/bapteme-a-sabran/
LOCATION:Eglise Sainte Agathe\, 3 Rue Saint-Elzear\, Sabran\, 30200\, France
ORGANIZER;CN="Ensemble Paroissial de Bagnols sur C%C3%A8ze":MAILTO:paroisse.stjeanbaptiste@orange.fr
END:VEVENT
BEGIN:VEVENT
DTSTART;TZID=UTC:20260426T120000
DTEND;TZID=UTC:20260426T190000
DTSTAMP:20260419T133921
CREATED:20260411T014818Z
LAST-MODIFIED:20260411T014818Z
UID:5477-1777204800-1777230000@cathobagnols.fr
SUMMARY:Rencontre fraternelle
DESCRIPTION:
URL:https://cathobagnols.fr/event/rencontre-fraternelle-4/
LOCATION:Espace Saint Jean XXIII\, chapelle de l'ancyse\, BAGNOLS SUR CEZE\, 30200\, France
ORGANIZER;CN="p%C3%B4le  solidarit%C3%A9-fraternit%C3%A9  de la paroisse.":MAILTO:maithevire@gmail.com / bruno.beatrice.deseresin@hotmail.fr
END:VEVENT
BEGIN:VEVENT
DTSTART;TZID=UTC:20260426T200000
DTEND;TZID=UTC:20260426T220000
DTSTAMP:20260419T133921
CREATED:20260417T205118Z
LAST-MODIFIED:20260417T205118Z
UID:5493-1777233600-1777240800@cathobagnols.fr
SUMMARY:Rencontre des Jeunes Pro catéchumènes
DESCRIPTION:
URL:https://cathobagnols.fr/event/rencontre-des-jeunes-pro-catechumenes/
LOCATION:Cave de Béthel
ORGANIZER;CN="Ensemble Paroissial de Bagnols sur C%C3%A8ze":MAILTO:paroisse.stjeanbaptiste@orange.fr
END:VEVENT
BEGIN:VEVENT
DTSTART;TZID=UTC:20260427T180000
DTEND;TZID=UTC:20260427T200000
DTSTAMP:20260419T133921
CREATED:20260415T144225Z
LAST-MODIFIED:20260417T205415Z
UID:5482-1777312800-1777320000@cathobagnols.fr
SUMMARY:Réunion pour l'association des chemins de St Jacques
DESCRIPTION:rencontre autour du projet ”Association pour la sauvegarde du patrimoine Chemins de St Jacques” avec Martine Piquet.
URL:https://cathobagnols.fr/event/reunion-pour-lassociation-des-chemins-de-st-jacques/
LOCATION:Cave de Béthel
END:VEVENT
END:VCALENDAR