BEGIN:VCALENDAR
VERSION:2.0
PRODID:-//Ensemble Paroissial de Bagnols-sur-C&egrave;ze - ECPv6.15.20//NONSGML v1.0//EN
CALSCALE:GREGORIAN
METHOD:PUBLISH
X-ORIGINAL-URL:https://cathobagnols.fr
X-WR-CALDESC:Évènements pour Ensemble Paroissial de Bagnols-sur-C&egrave;ze
REFRESH-INTERVAL;VALUE=DURATION:PT1H
X-Robots-Tag:noindex
X-PUBLISHED-TTL:PT1H
BEGIN:VTIMEZONE
TZID:UTC
BEGIN:STANDARD
TZOFFSETFROM:+0000
TZOFFSETTO:+0000
TZNAME:UTC
DTSTART:20250101T000000
END:STANDARD
END:VTIMEZONE
BEGIN:VEVENT
DTSTART;TZID=UTC:20260303T150000
DTEND;TZID=UTC:20260303T160000
DTSTAMP:20260419T151740
CREATED:20260302T171458Z
LAST-MODIFIED:20260302T171458Z
UID:5280-1772550000-1772553600@cathobagnols.fr
SUMMARY:Messe à l'EHPAD ST Roch
DESCRIPTION:messe ouverte à tous les paroissiens
URL:https://cathobagnols.fr/event/messe-a-lehpad-st-roch-16/
LOCATION:EHPAD St Roch\, 29 rue Crémieux\, Bagnols sur Cèze\, 30200\, France
ORGANIZER;CN="Ensemble Paroissial de Bagnols sur C%C3%A8ze":MAILTO:paroisse.stjeanbaptiste@orange.fr
END:VEVENT
BEGIN:VEVENT
DTSTART;TZID=UTC:20260303T190000
DTEND;TZID=UTC:20260303T220000
DTSTAMP:20260419T151740
CREATED:20260302T171637Z
LAST-MODIFIED:20260302T171637Z
UID:5282-1772564400-1772575200@cathobagnols.fr
SUMMARY:Rencontre des diacres et prêtres du Doyenné Vallée du Rhône
DESCRIPTION:rencontre à Villeneuve.
URL:https://cathobagnols.fr/event/rencontre-des-diacres-et-pretres-du-doyenne-vallee-du-rhone/
END:VEVENT
BEGIN:VEVENT
DTSTART;TZID=UTC:20260306T121500
DTEND;TZID=UTC:20260306T124500
DTSTAMP:20260419T151740
CREATED:20260209T175622Z
LAST-MODIFIED:20260209T175622Z
UID:5217-1772799300-1772801100@cathobagnols.fr
SUMMARY:Prière du vendredi de Carême à Chusclan
DESCRIPTION:
URL:https://cathobagnols.fr/event/priere-du-vendredi-de-careme-a-chusclan-4/
LOCATION:Église de Chusclan
END:VEVENT
BEGIN:VEVENT
DTSTART;TZID=UTC:20260306T180000
DTEND;TZID=UTC:20260306T220000
DTSTAMP:20260419T151740
CREATED:20260209T174357Z
LAST-MODIFIED:20260209T174717Z
UID:5204-1772820000-1772834400@cathobagnols.fr
SUMMARY:Vendredi de carême\, soirée soupe
DESCRIPTION:Avec l’équipe Eglise verte : un chemin de conversion pour notre Ensemble Paroissial \n18h : vêpres\n18h30 : conférence\n20h : soupe \nSi vous voulez apporter une marmite de soupe\, merci de vous inscrire auprès de Christine Paolini : 06-73-21-41-31
URL:https://cathobagnols.fr/event/vendredi-de-careme-soiree-soupe-2/
LOCATION:Espace Saint Jean XXIII\, chapelle de l'ancyse\, BAGNOLS SUR CEZE\, 30200\, France
ORGANIZER;CN="Ensemble Paroissial de Bagnols sur C%C3%A8ze":MAILTO:paroisse.stjeanbaptiste@orange.fr
END:VEVENT
BEGIN:VEVENT
DTSTART;TZID=UTC:20260307T180000
DTEND;TZID=UTC:20260307T220000
DTSTAMP:20260419T151741
CREATED:20260302T171912Z
LAST-MODIFIED:20260302T171912Z
UID:5284-1772906400-1772920800@cathobagnols.fr
SUMMARY:Rencontre des Jeunes professionnels
DESCRIPTION:
URL:https://cathobagnols.fr/event/rencontre-des-jeunes-professionnels-2/
LOCATION:Espace Saint Jean XXIII\, chapelle de l'ancyse\, BAGNOLS SUR CEZE\, 30200\, France
END:VEVENT
BEGIN:VEVENT
DTSTART;TZID=UTC:20260308T103000
DTEND;TZID=UTC:20260308T120000
DTSTAMP:20260419T151741
CREATED:20260302T172201Z
LAST-MODIFIED:20260302T172651Z
UID:5286-1772965800-1772971200@cathobagnols.fr
SUMMARY:Messe à Bagnols avec étape du 1er scrutin
DESCRIPTION:étape du 1er scrutin pour les trois catéchumènes adultes de nos paroisses: Mathilde\, William et Noa
URL:https://cathobagnols.fr/event/messe-a-bagnols-avec-etape-du-1er-scrutin-a-venejan/
LOCATION:Eglise Saint Jean-Baptiste\, 6 Pl. Saint-Jean 4\,\, Bagnols-sur-Cèze\, france\, 30200
ORGANIZER;CN="Ensemble Paroissial de Bagnols sur C%C3%A8ze":MAILTO:paroisse.stjeanbaptiste@orange.fr
END:VEVENT
BEGIN:VEVENT
DTSTART;TZID=UTC:20260308T150000
DTEND;TZID=UTC:20260308T170000
DTSTAMP:20260419T151741
CREATED:20260123T135944Z
LAST-MODIFIED:20260302T173125Z
UID:5160-1772982000-1772989200@cathobagnols.fr
SUMMARY:Concert Jean-Claude Giannada
DESCRIPTION:concert (chants et guitare).\nEntrée libre\, participation au chapô. \n« L’infatigable troubadour de Dieu sera parmi nous. À l’heure de la retraite\, ce merveilleux chanteur chrétien a élu domicile à Notre Dame de la Blache mais il continue de chanter pour aider les plus déshérités de notre terre. L’entrée à la chapelle sera libre et une quête sera faite à l’issue du concert au profit d’Haïti… Là-bas\, sœur Paësie a\nchoisi de vivre dans un des plus dangereux bidonvilles du monde : ”cité soleil” à Port au Prince\, ville du kidnapping. Sœur Paësie s’occupe d’enfants laissés à l’abandon.\nNotre contribution sera peut-être une goutte d’eau par rapport au besoin du monde mais le bonheur que nous tirerons de ce temps de partage de foi sera énorme.\nMerci de venir nombreux le dimanche 8 mars à 15 heures. » (Message de Sylviane F.)
URL:https://cathobagnols.fr/event/concert-jean-claude-giannada/
LOCATION:Espace Saint Jean XXIII\, chapelle de l'ancyse\, BAGNOLS SUR CEZE\, 30200\, France
END:VEVENT
BEGIN:VEVENT
DTSTART;TZID=UTC:20260310T150000
DTEND;TZID=UTC:20260310T160000
DTSTAMP:20260419T151741
CREATED:20260306T161919Z
LAST-MODIFIED:20260306T161919Z
UID:5309-1773154800-1773158400@cathobagnols.fr
SUMMARY:Messe à l'EHPAD St Émétery
DESCRIPTION:messe ouverte à tous les paroissiens
URL:https://cathobagnols.fr/event/messe-a-lehpad-st-emetery-3/
END:VEVENT
BEGIN:VEVENT
DTSTART;TZID=UTC:20260310T150000
DTEND;TZID=UTC:20260310T170000
DTSTAMP:20260419T151741
CREATED:20260109T083938Z
LAST-MODIFIED:20260109T083938Z
UID:5113-1773154800-1773162000@cathobagnols.fr
SUMMARY:Rencontre biblique
DESCRIPTION:animée par Jean-François Doucet
URL:https://cathobagnols.fr/event/rencontre-biblique-5/
LOCATION:Espace Saint Jean XXIII\, chapelle de l'ancyse\, BAGNOLS SUR CEZE\, 30200\, France
ORGANIZER;CN="Jean-Fran%C3%A7ois Doucet":MAILTO:Jefba30200@outlook.fr
END:VEVENT
BEGIN:VEVENT
DTSTART;TZID=UTC:20260311T080000
DTEND;TZID=UTC:20260311T170000
DTSTAMP:20260419T151741
CREATED:20260306T161010Z
LAST-MODIFIED:20260306T161010Z
UID:5303-1773216000-1773248400@cathobagnols.fr
SUMMARY:Intention de prière pour la Paix dans le monde à Bagnols
DESCRIPTION:à l’initiative de PAX CHRISTI\, le 11 de chaque mois\, nous porterons une intention de prière pour la PAIX dans le monde. Ce sera le cas à Bagnols et à Connaux ce 11 mars
URL:https://cathobagnols.fr/event/intention-de-priere-pour-la-paix-dans-le-monde-a-bagnols/
LOCATION:Eglise Saint Jean-Baptiste\, 6 Pl. Saint-Jean 4\,\, Bagnols-sur-Cèze\, france\, 30200
END:VEVENT
BEGIN:VEVENT
DTSTART;TZID=UTC:20260311T183000
DTEND;TZID=UTC:20260311T200000
DTSTAMP:20260419T151741
CREATED:20260306T161142Z
LAST-MODIFIED:20260306T161142Z
UID:5305-1773253800-1773259200@cathobagnols.fr
SUMMARY:Rencontre du Catéchuménat des adultes
DESCRIPTION:
URL:https://cathobagnols.fr/event/rencontre-du-catechumenat-des-adultes-3/
LOCATION:Espace Saint Jean XXIII\, chapelle de l'ancyse\, BAGNOLS SUR CEZE\, 30200\, France
ORGANIZER;CN="Ensemble Paroissial de Bagnols sur C%C3%A8ze":MAILTO:paroisse.stjeanbaptiste@orange.fr
END:VEVENT
BEGIN:VEVENT
DTSTART;TZID=UTC:20260313T100000
DTEND;TZID=UTC:20260313T120000
DTSTAMP:20260419T151741
CREATED:20260306T161616Z
LAST-MODIFIED:20260306T161616Z
UID:5307-1773396000-1773403200@cathobagnols.fr
SUMMARY:Rencontre des équipes DENIER du Doyenné avec l’économat diocésain
DESCRIPTION:
URL:https://cathobagnols.fr/event/rencontre-des-equipes-denier-du-doyenne-avec-leconomat-diocesain/
LOCATION:Espace Saint Jean XXIII\, chapelle de l'ancyse\, BAGNOLS SUR CEZE\, 30200\, France
END:VEVENT
BEGIN:VEVENT
DTSTART;TZID=UTC:20260313T121500
DTEND;TZID=UTC:20260313T124500
DTSTAMP:20260419T151741
CREATED:20260209T175740Z
LAST-MODIFIED:20260209T175740Z
UID:5219-1773404100-1773405900@cathobagnols.fr
SUMMARY:Prière du vendredi de Carême à Chusclan
DESCRIPTION:
URL:https://cathobagnols.fr/event/priere-du-vendredi-de-careme-a-chusclan-5/
LOCATION:Église de Chusclan
END:VEVENT
BEGIN:VEVENT
DTSTART;TZID=UTC:20260313T180000
DTEND;TZID=UTC:20260313T213000
DTSTAMP:20260419T151741
CREATED:20250607T111602Z
LAST-MODIFIED:20250621T143951Z
UID:4191-1773424800-1773437400@cathobagnols.fr
SUMMARY:Soirée aumonerie collèges et lycées
DESCRIPTION:6°-5° : 18h\n4°-3° & Lycéens : 19h
URL:https://cathobagnols.fr/event/soiree-aumonerie-colleges-et-lycees-12/
LOCATION:Espace Saint Jean XXIII\, chapelle de l'ancyse\, BAGNOLS SUR CEZE\, 30200\, France
END:VEVENT
BEGIN:VEVENT
DTSTART;TZID=UTC:20260314T100000
DTEND;TZID=UTC:20260314T120000
DTSTAMP:20260419T151741
CREATED:20251123T093206Z
LAST-MODIFIED:20251123T093206Z
UID:4927-1773482400-1773489600@cathobagnols.fr
SUMMARY:Catéchisme Bagnols sur Cèze
DESCRIPTION:
URL:https://cathobagnols.fr/event/catechisme-bagnols-sur-ceze-12/
LOCATION:Espace Saint Jean XXIII\, chapelle de l'ancyse\, BAGNOLS SUR CEZE\, 30200\, France
ORGANIZER;CN="CAMARA Marceline":MAILTO:Marcelinecamara76@gmail.com
END:VEVENT
BEGIN:VEVENT
DTSTART;TZID=UTC:20260315T103000
DTEND;TZID=UTC:20260315T120000
DTSTAMP:20260419T151741
CREATED:20260306T162619Z
LAST-MODIFIED:20260313T085151Z
UID:5311-1773570600-1773576000@cathobagnols.fr
SUMMARY:Messe à Gaujac avec étape du 2ème scrutin
DESCRIPTION:Messe à Bagnols et messe à Gaujac avec étape du 2ème scrutin pour les trois catéchumènes adultes de nos paroisses: Mathilde\, William et Noa
URL:https://cathobagnols.fr/event/messe-a-bagnols-avec-etape-du-2eme-scrutin/
LOCATION:Église GAUJAC Saint-Théodorit\, rue
ORGANIZER;CN="Ensemble Paroissial de Bagnols sur C%C3%A8ze":MAILTO:paroisse.stjeanbaptiste@orange.fr
END:VEVENT
BEGIN:VEVENT
DTSTART;TZID=UTC:20260315T140000
DTEND;TZID=UTC:20260315T193000
DTSTAMP:20260419T151741
CREATED:20250609T151451Z
LAST-MODIFIED:20250609T151451Z
UID:4212-1773583200-1773603000@cathobagnols.fr
SUMMARY:Réunion pour les baptêmes des enfants en âge scolaire
DESCRIPTION:
URL:https://cathobagnols.fr/event/reunion-pour-les-baptemes-des-enfants-en-age-scolaire-4/
LOCATION:Espace Saint Jean XXIII\, chapelle de l'ancyse\, BAGNOLS SUR CEZE\, 30200\, France
END:VEVENT
BEGIN:VEVENT
DTSTART;TZID=UTC:20260315T170000
DTEND;TZID=UTC:20260315T180000
DTSTAMP:20260419T151741
CREATED:20251006T095041Z
LAST-MODIFIED:20260306T163043Z
UID:4716-1773594000-1773597600@cathobagnols.fr
SUMMARY:Messe en famille avec une animation spéciale d’éveil à la foi pour les ”tout petits”
DESCRIPTION:
URL:https://cathobagnols.fr/event/messe-en-famille-13/
LOCATION:Espace Saint Jean XXIII\, chapelle de l'ancyse\, BAGNOLS SUR CEZE\, 30200\, France
END:VEVENT
BEGIN:VEVENT
DTSTART;TZID=UTC:20260317T143000
DTEND;TZID=UTC:20260317T180000
DTSTAMP:20260419T151741
CREATED:20260220T155117Z
LAST-MODIFIED:20260313T085446Z
UID:5259-1773757800-1773770400@cathobagnols.fr
SUMMARY:Récollection des équipes du Rosaire
DESCRIPTION:conférence suivie de la messe\, ouverte à tous.
URL:https://cathobagnols.fr/event/recollection-des-equipes-du-rosaire-2/
LOCATION:Espace Saint Jean XXIII\, chapelle de l'ancyse\, BAGNOLS SUR CEZE\, 30200\, France
END:VEVENT
BEGIN:VEVENT
DTSTART;TZID=UTC:20260317T150000
DTEND;TZID=UTC:20260317T160000
DTSTAMP:20260419T151741
CREATED:20260313T085638Z
LAST-MODIFIED:20260313T085638Z
UID:5328-1773759600-1773763200@cathobagnols.fr
SUMMARY:Messe à l'EHPAD Bonnefond
DESCRIPTION:Messe ouverte à tous les paroissiens
URL:https://cathobagnols.fr/event/messe-a-lehpad-bonnefond-6/
LOCATION:EHPAD Bonnefond\, 4 bis Montée des Oliviers\, Bagnols sur Cèze\, 30200\, France
ORGANIZER;CN="Ensemble Paroissial de Bagnols sur C%C3%A8ze":MAILTO:paroisse.stjeanbaptiste@orange.fr
END:VEVENT
BEGIN:VEVENT
DTSTART;TZID=UTC:20260318T180000
DTEND;TZID=UTC:20260318T200000
DTSTAMP:20260419T151741
CREATED:20260302T210250Z
LAST-MODIFIED:20260302T210250Z
UID:5294-1773856800-1773864000@cathobagnols.fr
SUMMARY:Réunion pour Trait d'union
DESCRIPTION:
URL:https://cathobagnols.fr/event/reunion-pour-trait-dunion/
LOCATION:Espace Saint Jean XXIII\, chapelle de l'ancyse\, BAGNOLS SUR CEZE\, 30200\, France
ORGANIZER;CN="Ensemble Paroissial de Bagnols sur C%C3%A8ze":MAILTO:paroisse.stjeanbaptiste@orange.fr
END:VEVENT
BEGIN:VEVENT
DTSTART;TZID=UTC:20260319T200000
DTEND;TZID=UTC:20260319T220000
DTSTAMP:20260419T151741
CREATED:20260313T085820Z
LAST-MODIFIED:20260313T085820Z
UID:5330-1773950400-1773957600@cathobagnols.fr
SUMMARY:Rencontre BIBLE B-A-BA
DESCRIPTION:rencontre animée par le P. Luc.
URL:https://cathobagnols.fr/event/rencontre-bible-b-a-ba-4/
LOCATION:Espace Saint Jean XXIII\, chapelle de l'ancyse\, BAGNOLS SUR CEZE\, 30200\, France
ORGANIZER;CN="Ensemble Paroissial de Bagnols sur C%C3%A8ze":MAILTO:paroisse.stjeanbaptiste@orange.fr
END:VEVENT
BEGIN:VEVENT
DTSTART;TZID=UTC:20260320T110000
DTEND;TZID=UTC:20260320T123000
DTSTAMP:20260419T151741
CREATED:20260313T090226Z
LAST-MODIFIED:20260313T090226Z
UID:5332-1774004400-1774009800@cathobagnols.fr
SUMMARY:Messe du Jubilé du Père Menjaud
DESCRIPTION:
URL:https://cathobagnols.fr/event/messe-du-jubile-du-pere-menjaud/
LOCATION:Eglise Saint Jean-Baptiste\, 6 Pl. Saint-Jean 4\,\, Bagnols-sur-Cèze\, france\, 30200
ORGANIZER;CN="Ensemble Paroissial de Bagnols sur C%C3%A8ze":MAILTO:paroisse.stjeanbaptiste@orange.fr
END:VEVENT
BEGIN:VEVENT
DTSTART;TZID=UTC:20260320T121500
DTEND;TZID=UTC:20260320T124500
DTSTAMP:20260419T151741
CREATED:20260209T175907Z
LAST-MODIFIED:20260209T175907Z
UID:5221-1774008900-1774010700@cathobagnols.fr
SUMMARY:Prière du vendredi de Carême à Chusclan
DESCRIPTION:
URL:https://cathobagnols.fr/event/priere-du-vendredi-de-careme-a-chusclan-6/
LOCATION:Église de Chusclan
END:VEVENT
BEGIN:VEVENT
DTSTART;TZID=UTC:20260320T180000
DTEND;TZID=UTC:20260320T220000
DTSTAMP:20260419T151741
CREATED:20260209T174557Z
LAST-MODIFIED:20260313T090414Z
UID:5206-1774029600-1774044000@cathobagnols.fr
SUMMARY:Vendredi de carême\, soirée soupe
DESCRIPTION:Avec Philippe Cazes : Retour de pèlerinage en Terre Sainte \n18h : vêpres\n18h30 : conférence\n20h : soupe \nSi vous voulez apporter une marmite de soupe\, merci de vous inscrire auprès de Christine Paolini : 06-73-21-41-31 \nLa collecte du CCFD-Terre Solidaire est encore possible ce soir-là.
URL:https://cathobagnols.fr/event/vendredi-de-careme-soiree-soupe-3/
LOCATION:Espace Saint Jean XXIII\, chapelle de l'ancyse\, BAGNOLS SUR CEZE\, 30200\, France
ORGANIZER;CN="Ensemble Paroissial de Bagnols sur C%C3%A8ze":MAILTO:paroisse.stjeanbaptiste@orange.fr
END:VEVENT
BEGIN:VEVENT
DTSTART;TZID=UTC:20260321T160000
DTEND;TZID=UTC:20260321T190000
DTSTAMP:20260419T151741
CREATED:20260313T090622Z
LAST-MODIFIED:20260320T082431Z
UID:5335-1774108800-1774119600@cathobagnols.fr
SUMMARY:Rencontre Solidarité sans frontière
DESCRIPTION:Témoignages de jeunes Scouts et CCFD.\n”Solidarité sans frontière”
URL:https://cathobagnols.fr/event/rencontre-solidarite-sans-frontiere/
LOCATION:Espace Saint Jean XXIII\, chapelle de l'ancyse\, BAGNOLS SUR CEZE\, 30200\, France
ORGANIZER;CN="Scout et Guide de France troupe de Bagnols Sur C%C3%A8ze":MAILTO:christine.dargent231@orange.fr
END:VEVENT
BEGIN:VEVENT
DTSTART;TZID=UTC:20260322T103000
DTEND;TZID=UTC:20260322T120000
DTSTAMP:20260419T151741
CREATED:20260313T090952Z
LAST-MODIFIED:20260313T090952Z
UID:5337-1774175400-1774180800@cathobagnols.fr
SUMMARY:Messe à Bagnols avec étape du 3ème scrutin
DESCRIPTION:Avec étape du 3ème scrutin pour les trois catéchumènes adultes de nos paroisses: Mathilde\, William et Noa. Au cours de la messe\, les fiancés recevront une bénédiction pour l’étape qu’ils sont en train de vivre.
URL:https://cathobagnols.fr/event/messe-a-bagnols-avec-etape-du-3eme-scrutin/
LOCATION:Eglise Saint Jean-Baptiste\, 6 Pl. Saint-Jean 4\,\, Bagnols-sur-Cèze\, france\, 30200
ORGANIZER;CN="Ensemble Paroissial de Bagnols sur C%C3%A8ze":MAILTO:paroisse.stjeanbaptiste@orange.fr
END:VEVENT
BEGIN:VEVENT
DTSTART;TZID=UTC:20260322T103000
DTEND;TZID=UTC:20260322T120000
DTSTAMP:20260419T151741
CREATED:20260320T082657Z
LAST-MODIFIED:20260320T082657Z
UID:5346-1774175400-1774180800@cathobagnols.fr
SUMMARY:Messe à St Etienne des Sorts.
DESCRIPTION:Au cours de la messe\, les fiancés recevront une bénédiction pour l’étape qu’ils sont en train de vivre.
URL:https://cathobagnols.fr/event/messe-a-st-etienne-des-sorts/
LOCATION:Eglise de Saint Etienne des Sorts\, 87 avenue du mistral\, Saint Etienne des Sorts\, 30200\, France
ORGANIZER;CN="Ensemble Paroissial de Bagnols sur C%C3%A8ze":MAILTO:paroisse.stjeanbaptiste@orange.fr
END:VEVENT
BEGIN:VEVENT
DTSTART;TZID=UTC:20260322T121500
DTEND;TZID=UTC:20260322T163000
DTSTAMP:20260419T151741
CREATED:20260313T091412Z
LAST-MODIFIED:20260313T091412Z
UID:5339-1774181700-1774197000@cathobagnols.fr
SUMMARY:Rencontre des fiancés
DESCRIPTION:rencontre autour d’un repas canadien et d’une réflexion sur le mystère du Sacrement de mariage
URL:https://cathobagnols.fr/event/rencontre-des-fiances/
LOCATION:Espace Saint Jean XXIII\, chapelle de l'ancyse\, BAGNOLS SUR CEZE\, 30200\, France
ORGANIZER;CN="Ensemble Paroissial de Bagnols sur C%C3%A8ze":MAILTO:paroisse.stjeanbaptiste@orange.fr
END:VEVENT
BEGIN:VEVENT
DTSTART;TZID=UTC:20260324T133000
DTEND;TZID=UTC:20260324T170000
DTSTAMP:20260419T151741
CREATED:20260305T131445Z
LAST-MODIFIED:20260305T131658Z
UID:5301-1774359000-1774371600@cathobagnols.fr
SUMMARY:Réunion de l'Hospitalité
DESCRIPTION:
URL:https://cathobagnols.fr/event/reunion-de-lhospitalite/
LOCATION:Espace Saint Jean XXIII\, chapelle de l'ancyse\, BAGNOLS SUR CEZE\, 30200\, France
END:VEVENT
END:VCALENDAR