BEGIN:VCALENDAR
VERSION:2.0
PRODID:-//Ensemble Paroissial de Bagnols-sur-C&egrave;ze - ECPv6.15.20//NONSGML v1.0//EN
CALSCALE:GREGORIAN
METHOD:PUBLISH
X-ORIGINAL-URL:https://cathobagnols.fr
X-WR-CALDESC:Évènements pour Ensemble Paroissial de Bagnols-sur-C&egrave;ze
REFRESH-INTERVAL;VALUE=DURATION:PT1H
X-Robots-Tag:noindex
X-PUBLISHED-TTL:PT1H
BEGIN:VTIMEZONE
TZID:UTC
BEGIN:STANDARD
TZOFFSETFROM:+0000
TZOFFSETTO:+0000
TZNAME:UTC
DTSTART:20240101T000000
END:STANDARD
END:VTIMEZONE
BEGIN:VEVENT
DTSTART;TZID=UTC:20251002T140000
DTEND;TZID=UTC:20251002T180000
DTSTAMP:20260425T103644
CREATED:20250524T222348Z
LAST-MODIFIED:20250524T222348Z
UID:4089-1759413600-1759428000@cathobagnols.fr
SUMMARY:Les yeux du coeur
DESCRIPTION:
URL:https://cathobagnols.fr/event/les-yeux-du-coeur-14/
LOCATION:Cave de Béthel
END:VEVENT
BEGIN:VEVENT
DTSTART;TZID=UTC:20251003T090000
DTEND;TZID=UTC:20251003T103000
DTSTAMP:20260425T103644
CREATED:20251003T132618Z
LAST-MODIFIED:20251003T132618Z
UID:4691-1759482000-1759487400@cathobagnols.fr
SUMMARY:Messe provençale à Chusclan
DESCRIPTION:Dans le cadre de la fête des ”Vendanges de l’Histoire”. \nBénédiction des animaux sur le parvis à la fin de\nla messe.
URL:https://cathobagnols.fr/event/messe-provencale-a-chusclan/
LOCATION:Église de Chusclan
ORGANIZER;CN="Ensemble Paroissial de Bagnols sur C%C3%A8ze":MAILTO:paroisse.stjeanbaptiste@orange.fr
END:VEVENT
BEGIN:VEVENT
DTSTART;TZID=UTC:20251003T121500
DTEND;TZID=UTC:20251003T124500
DTSTAMP:20260425T103644
CREATED:20250702T170520Z
LAST-MODIFIED:20250702T170520Z
UID:4450-1759493700-1759495500@cathobagnols.fr
SUMMARY:Prière pour et par la Création
DESCRIPTION:Prière pour la sauvegarde de la Création
URL:https://cathobagnols.fr/event/priere-pour-et-par-la-creation-5/
LOCATION:Église de Chusclan
END:VEVENT
BEGIN:VEVENT
DTSTART;TZID=UTC:20251003T200000
DTEND;TZID=UTC:20251003T220000
DTSTAMP:20260425T103644
CREATED:20251002T125407Z
LAST-MODIFIED:20251002T125407Z
UID:4666-1759521600-1759528800@cathobagnols.fr
SUMMARY:”Soirée fiancés”
DESCRIPTION:Lancement des rencontres de préparation au mariage. Déjà 12 couples sont inscrits pour l’année 2026.\nNous leur souhaitons bonne et belle préparation.
URL:https://cathobagnols.fr/event/soiree-fiances/
LOCATION:Espace Saint Jean XXIII\, chapelle de l'ancyse\, BAGNOLS SUR CEZE\, 30200\, France
ORGANIZER;CN="Ensemble Paroissial de Bagnols sur C%C3%A8ze":MAILTO:paroisse.stjeanbaptiste@orange.fr
END:VEVENT
BEGIN:VEVENT
DTSTART;TZID=UTC:20251005T103000
DTEND;TZID=UTC:20251005T113000
DTSTAMP:20260425T103644
CREATED:20251003T125622Z
LAST-MODIFIED:20251003T125751Z
UID:4670-1759660200-1759663800@cathobagnols.fr
SUMMARY:Messe dominicale à Bagnols avec étape pour les Servants de Messe
DESCRIPTION:
URL:https://cathobagnols.fr/event/messe-a-bagnols-avec-etape-pour-les-servants-de-messe/
LOCATION:Eglise Saint Jean-Baptiste\, 6 Pl. Saint-Jean 4\,\, Bagnols-sur-Cèze\, france\, 30200
ORGANIZER;CN="Ensemble Paroissial de Bagnols sur C%C3%A8ze":MAILTO:paroisse.stjeanbaptiste@orange.fr
END:VEVENT
BEGIN:VEVENT
DTSTART;TZID=UTC:20251005T130000
DTEND;TZID=UTC:20251005T210000
DTSTAMP:20260425T103644
CREATED:20250912T202902Z
LAST-MODIFIED:20250924T083709Z
UID:4602-1759669200-1759698000@cathobagnols.fr
SUMMARY:Rencontre fraternelle
DESCRIPTION:
URL:https://cathobagnols.fr/event/rencontre-fraternelle-3/
LOCATION:Espace Saint Jean XXIII\, chapelle de l'ancyse\, BAGNOLS SUR CEZE\, 30200\, France
END:VEVENT
BEGIN:VEVENT
DTSTART;TZID=UTC:20251005T170000
DTEND;TZID=UTC:20251005T190000
DTSTAMP:20260425T103644
CREATED:20250924T070634Z
LAST-MODIFIED:20251003T125848Z
UID:4637-1759683600-1759690800@cathobagnols.fr
SUMMARY:Rencontre préparatoire de tous les pèlerins et des parents des pèlerins ”jeunes”
DESCRIPTION:Venir avec de quoi prendre des notes.\nJeunes et parents sont attendus ensemble
URL:https://cathobagnols.fr/event/rencontre-preparatoire-de-tous-les-pelerins-et-des-parents-des-pelerins-jeunes/
LOCATION:Espace Saint Jean XXIII\, chapelle de l'ancyse\, BAGNOLS SUR CEZE\, 30200\, France
ORGANIZER;CN="Ensemble Paroissial de Bagnols sur C%C3%A8ze":MAILTO:paroisse.stjeanbaptiste@orange.fr
END:VEVENT
BEGIN:VEVENT
DTSTART;TZID=UTC:20251007T100000
DTEND;TZID=UTC:20251007T110000
DTSTAMP:20260425T103644
CREATED:20251003T130045Z
LAST-MODIFIED:20251003T130045Z
UID:4674-1759831200-1759834800@cathobagnols.fr
SUMMARY:Célébration des jeunes du collège St Jean.
DESCRIPTION:St Jean Baptiste à Bagnols
URL:https://cathobagnols.fr/event/celebration-des-jeunes-du-college-st-jean/
LOCATION:Eglise Saint Jean-Baptiste\, 6 Pl. Saint-Jean 4\,\, Bagnols-sur-Cèze\, france\, 30200
ORGANIZER;CN="Ensemble Paroissial de Bagnols sur C%C3%A8ze":MAILTO:paroisse.stjeanbaptiste@orange.fr
END:VEVENT
BEGIN:VEVENT
DTSTART;TZID=UTC:20251007T150000
DTEND;TZID=UTC:20251007T160000
DTSTAMP:20260425T103644
CREATED:20251003T130221Z
LAST-MODIFIED:20251003T130221Z
UID:4676-1759849200-1759852800@cathobagnols.fr
SUMMARY:Messe à l’EHPAD St Roch
DESCRIPTION:
URL:https://cathobagnols.fr/event/messe-a-lehpad-st-roch-12/
LOCATION:EHPAD St Roch\, 29 rue Crémieux\, Bagnols sur Cèze\, 30200\, France
ORGANIZER;CN="Ensemble Paroissial de Bagnols sur C%C3%A8ze":MAILTO:paroisse.stjeanbaptiste@orange.fr
END:VEVENT
BEGIN:VEVENT
DTSTART;TZID=UTC:20251008T170000
DTEND;TZID=UTC:20251008T183000
DTSTAMP:20260425T103644
CREATED:20251003T131519Z
LAST-MODIFIED:20251003T131519Z
UID:4682-1759942800-1759948200@cathobagnols.fr
SUMMARY:Réunion des membres du Conseil pour les Affaires Économiques
DESCRIPTION:
URL:https://cathobagnols.fr/event/reunion-des-membres-du-conseil-pour-les-affaires-economiques/
LOCATION:Espace Saint Jean XXIII\, chapelle de l'ancyse\, BAGNOLS SUR CEZE\, 30200\, France
ORGANIZER;CN="Ensemble Paroissial de Bagnols sur C%C3%A8ze":MAILTO:paroisse.stjeanbaptiste@orange.fr
END:VEVENT
BEGIN:VEVENT
DTSTART;TZID=UTC:20251008T183000
DTEND;TZID=UTC:20251008T200000
DTSTAMP:20260425T103644
CREATED:20251003T131656Z
LAST-MODIFIED:20251003T131656Z
UID:4684-1759948200-1759953600@cathobagnols.fr
SUMMARY:Rencontre des Catéchumènes et des accompagnateurs
DESCRIPTION:
URL:https://cathobagnols.fr/event/rencontre-des-catechumenes-et-des-accompagnateurs/
LOCATION:Espace Saint Jean XXIII\, chapelle de l'ancyse\, BAGNOLS SUR CEZE\, 30200\, France
ORGANIZER;CN="Ensemble Paroissial de Bagnols sur C%C3%A8ze":MAILTO:paroisse.stjeanbaptiste@orange.fr
END:VEVENT
BEGIN:VEVENT
DTSTART;TZID=UTC:20251010T180000
DTEND;TZID=UTC:20251010T213000
DTSTAMP:20260425T103644
CREATED:20250607T105921Z
LAST-MODIFIED:20251003T131954Z
UID:4173-1760119200-1760131800@cathobagnols.fr
SUMMARY:Soirée aumonerie collèges et lycées
DESCRIPTION:6°-5° : 18h\n4°-3° & Lycéens : 19h \nNous partageons tous ensemble de 19h à 20h un temps de prière à la chapelle\, puis de bons morceaux de pizzas ou autres tartes et gâteaux dans la joie et l’amitié.
URL:https://cathobagnols.fr/event/soiree-aumonerie-colleges-et-lycees-3/
LOCATION:Espace Saint Jean XXIII\, chapelle de l'ancyse\, BAGNOLS SUR CEZE\, 30200\, France
END:VEVENT
BEGIN:VEVENT
DTSTART;TZID=UTC:20251011T170000
DTEND;TZID=UTC:20251011T180000
DTSTAMP:20260425T103644
CREATED:20251003T132215Z
LAST-MODIFIED:20251003T132215Z
UID:4689-1760202000-1760205600@cathobagnols.fr
SUMMARY:Concert d’orgue en lien avec la fête des Vendanges de l’Histoire.
DESCRIPTION:le jeune organiste Mathis Duplan présente un concert d’orgue en lien avec la fête des Vendanges de l’Histoire. Venez nombreux
URL:https://cathobagnols.fr/event/concert-dorgue-en-lien-avec-la-fete-des-vendanges-de-lhistoire/
LOCATION:Église de Chusclan
END:VEVENT
BEGIN:VEVENT
DTSTART;TZID=UTC:20251012T090000
DTEND;TZID=UTC:20251012T103000
DTSTAMP:20260425T103644
CREATED:20251010T073319Z
LAST-MODIFIED:20251010T073319Z
UID:4732-1760259600-1760265000@cathobagnols.fr
SUMMARY:Messe provençale à Chusclan
DESCRIPTION:dans le cadre de la fête des ”Vendanges de l’Histoire”. Bénédiction des animaux sur le parvis à la fin de la messe.
URL:https://cathobagnols.fr/event/messe-provencale-a-chusclan-2/
LOCATION:Église de Chusclan
ORGANIZER;CN="Ensemble Paroissial de Bagnols sur C%C3%A8ze":MAILTO:paroisse.stjeanbaptiste@orange.fr
END:VEVENT
BEGIN:VEVENT
DTSTART;TZID=UTC:20251013T200000
DTEND;TZID=UTC:20251013T220000
DTSTAMP:20260425T103644
CREATED:20251010T073500Z
LAST-MODIFIED:20251010T073500Z
UID:4734-1760385600-1760392800@cathobagnols.fr
SUMMARY:Rencontre de l’EAP\, Équipe d’Animation Pastorale
DESCRIPTION:
URL:https://cathobagnols.fr/event/rencontre-de-leap-equipe-danimation-pastorale-2/
LOCATION:Espace Saint Jean XXIII\, chapelle de l'ancyse\, BAGNOLS SUR CEZE\, 30200\, France
ORGANIZER;CN="Ensemble Paroissial de Bagnols sur C%C3%A8ze":MAILTO:paroisse.stjeanbaptiste@orange.fr
END:VEVENT
BEGIN:VEVENT
DTSTART;TZID=UTC:20251014T150000
DTEND;TZID=UTC:20251014T160000
DTSTAMP:20260425T103644
CREATED:20251010T073833Z
LAST-MODIFIED:20251010T073833Z
UID:4736-1760454000-1760457600@cathobagnols.fr
SUMMARY:Messe à St Émétery
DESCRIPTION:messe ouverte à tous.
URL:https://cathobagnols.fr/event/messe-a-st-emetery/
LOCATION:St Emetery\, 61 chemin Horts\, Chusclan\, 30200\, France
ORGANIZER;CN="Ensemble Paroissial de Bagnols sur C%C3%A8ze":MAILTO:paroisse.stjeanbaptiste@orange.fr
END:VEVENT
BEGIN:VEVENT
DTSTART;TZID=UTC:20251014T150000
DTEND;TZID=UTC:20251014T163000
DTSTAMP:20260425T103644
CREATED:20251003T131324Z
LAST-MODIFIED:20251010T073954Z
UID:4680-1760454000-1760459400@cathobagnols.fr
SUMMARY:Groupe biblique
DESCRIPTION:« St Paul\, son itinéraire spirituel et missionnaire ; les\ncommencements des communautés chrétiennes »\, animé par J.-F. Doucet. \nLire à l’avance : La Lettre aux Galates\, chapitres 1 et 2 : l’autorité apostolique de Paul.
URL:https://cathobagnols.fr/event/groupe-biblique-5/
LOCATION:Espace Saint Jean XXIII\, chapelle de l'ancyse\, BAGNOLS SUR CEZE\, 30200\, France
ORGANIZER;CN="Jean-Fran%C3%A7ois Doucet":MAILTO:Jefba30200@outlook.fr
END:VEVENT
BEGIN:VEVENT
DTSTART;TZID=UTC:20251014T180000
DTEND;TZID=UTC:20251014T200000
DTSTAMP:20260425T103644
CREATED:20250609T145640Z
LAST-MODIFIED:20251007T172905Z
UID:4205-1760464800-1760472000@cathobagnols.fr
SUMMARY:Réunion pour les baptêmes des enfants en âge scolaire
DESCRIPTION:
URL:https://cathobagnols.fr/event/reunion-pour-les-baptemes-des-enfants-en-age-scolaire/
LOCATION:Espace Saint Jean XXIII\, chapelle de l'ancyse\, BAGNOLS SUR CEZE\, 30200\, France
END:VEVENT
BEGIN:VEVENT
DTSTART;TZID=UTC:20251014T200000
DTEND;TZID=UTC:20251014T220000
DTSTAMP:20260425T103644
CREATED:20250624T192423Z
LAST-MODIFIED:20250924T122058Z
UID:4393-1760472000-1760479200@cathobagnols.fr
SUMMARY:Réunion bible et questions de foi
DESCRIPTION:Les consignes pour cette séance sont :\n– lire les textes cités en page 17 du document donné précédemment.\n– lire tout l’évangile de A à Z… chacun\, chacune à son rythme.
URL:https://cathobagnols.fr/event/reunion-bible-et-questions-de-foi-2/
LOCATION:Espace Saint Jean XXIII\, chapelle de l'ancyse\, BAGNOLS SUR CEZE\, 30200\, France
ORGANIZER;CN="Ensemble Paroissial de Bagnols sur C%C3%A8ze":MAILTO:paroisse.stjeanbaptiste@orange.fr
END:VEVENT
BEGIN:VEVENT
DTSTART;TZID=UTC:20251015T200000
DTEND;TZID=UTC:20251015T220000
DTSTAMP:20260425T103644
CREATED:20251010T074214Z
LAST-MODIFIED:20251010T074214Z
UID:4739-1760558400-1760565600@cathobagnols.fr
SUMMARY:Conseil de pastorale
DESCRIPTION:Discerner les voies de la mission aujourd’hui.
URL:https://cathobagnols.fr/event/conseil-de-pastorale-3/
LOCATION:Espace Saint Jean XXIII\, chapelle de l'ancyse\, BAGNOLS SUR CEZE\, 30200\, France
ORGANIZER;CN="Ensemble Paroissial de Bagnols sur C%C3%A8ze":MAILTO:paroisse.stjeanbaptiste@orange.fr
END:VEVENT
BEGIN:VEVENT
DTSTART;TZID=UTC:20251016T200000
DTEND;TZID=UTC:20251016T220000
DTSTAMP:20260425T103644
CREATED:20251010T074433Z
LAST-MODIFIED:20251010T074433Z
UID:4741-1760644800-1760652000@cathobagnols.fr
SUMMARY:Groupe ”Bible B.A.BA”
DESCRIPTION:animé par le P. Luc : ”La belle épopée d’Abraham”.
URL:https://cathobagnols.fr/event/groupe-bible-b-a-ba/
LOCATION:Espace Saint Jean XXIII\, chapelle de l'ancyse\, BAGNOLS SUR CEZE\, 30200\, France
ORGANIZER;CN="Ensemble Paroissial de Bagnols sur C%C3%A8ze":MAILTO:paroisse.stjeanbaptiste@orange.fr
END:VEVENT
BEGIN:VEVENT
DTSTART;TZID=UTC:20251017T140000
DTEND;TZID=UTC:20251017T150000
DTSTAMP:20260425T103644
CREATED:20251003T131832Z
LAST-MODIFIED:20251003T131832Z
UID:4686-1760709600-1760713200@cathobagnols.fr
SUMMARY:Messe à l’EHPAD des 7 Sources
DESCRIPTION:
URL:https://cathobagnols.fr/event/messe-a-lehpad-des-7-sources-10/
LOCATION:EHPAD des 7 sources\, 5 Rue Jacqueline Bret Andre\, Bagnols-Sur-Cèze.\, 30200\, France
ORGANIZER;CN="Ensemble Paroissial de Bagnols sur C%C3%A8ze":MAILTO:paroisse.stjeanbaptiste@orange.fr
END:VEVENT
BEGIN:VEVENT
DTSTART;TZID=UTC:20251017T150000
DTEND;TZID=UTC:20251017T163000
DTSTAMP:20260425T103644
CREATED:20251010T074630Z
LAST-MODIFIED:20251010T074630Z
UID:4743-1760713200-1760718600@cathobagnols.fr
SUMMARY:Rencontre des membres des équipes d’Accueil du presbytère et des gardiens de l’église de Bagnols
DESCRIPTION:
URL:https://cathobagnols.fr/event/rencontre-des-membres-des-equipes-daccueil-du-presbytere-et-des-gardiens-de-leglise-de-bagnols/
LOCATION:Espace Saint Jean XXIII\, chapelle de l'ancyse\, BAGNOLS SUR CEZE\, 30200\, France
END:VEVENT
BEGIN:VEVENT
DTSTART;TZID=UTC:20251017T173000
DTEND;TZID=UTC:20251017T220000
DTSTAMP:20260425T103644
CREATED:20251010T075132Z
LAST-MODIFIED:20251010T075132Z
UID:4745-1760722200-1760738400@cathobagnols.fr
SUMMARY:Soirée ”Foi et Pizzas” pour les collégiens et lycéens
DESCRIPTION:Les rencontres ont lieu le vendredi soir :\n-groupe des 6èmes et des 5èmes de 18h à 20h\n-groupe des 4èmee-3èmes et des Lycéens de 19h à 21h.\nNous partageons tous ensemble de 19h à 20h un temps de prière à la chapelle\, puis de bons morceaux de pizzas ou autres tartes et gâteaux dans la joie et l’amitié.
URL:https://cathobagnols.fr/event/soiree-foi-et-pizzas-pour-les-collegiens-et-lyceens/
LOCATION:Espace Saint Jean XXIII\, chapelle de l'ancyse\, BAGNOLS SUR CEZE\, 30200\, France
END:VEVENT
BEGIN:VEVENT
DTSTART;TZID=UTC:20251018T100000
DTEND;TZID=UTC:20251018T120000
DTSTAMP:20260425T103644
CREATED:20251123T091830Z
LAST-MODIFIED:20251123T091830Z
UID:4909-1760781600-1760788800@cathobagnols.fr
SUMMARY:Catéchisme Bagnols sur Cèze
DESCRIPTION:
URL:https://cathobagnols.fr/event/catechisme-bagnols-sur-ceze-3/
LOCATION:Espace Saint Jean XXIII\, chapelle de l'ancyse\, BAGNOLS SUR CEZE\, 30200\, France
ORGANIZER;CN="CAMARA Marceline":MAILTO:Marcelinecamara76@gmail.com
END:VEVENT
BEGIN:VEVENT
DTSTART;TZID=UTC:20251018T100000
DTEND;TZID=UTC:20251018T130000
DTSTAMP:20260425T103644
CREATED:20251004T125212Z
LAST-MODIFIED:20251004T125212Z
UID:4706-1760781600-1760792400@cathobagnols.fr
SUMMARY:Rencontre des équipes Compassion
DESCRIPTION:
URL:https://cathobagnols.fr/event/rencontre-des-equipes-compassion/
LOCATION:Espace Saint Jean XXIII\, chapelle de l'ancyse\, BAGNOLS SUR CEZE\, 30200\, France
END:VEVENT
BEGIN:VEVENT
DTSTART;TZID=UTC:20251018T210000
DTEND;TZID=UTC:20251024T170000
DTSTAMP:20260425T103644
CREATED:20250627T195107Z
LAST-MODIFIED:20251010T075456Z
UID:4422-1760821200-1761325200@cathobagnols.fr
SUMMARY:Pèlerinage à Rome
DESCRIPTION:Durant ce pélé au cœur du JUBILÉ DE L’ESPÉREANCE\, nous découvrirons la capitale du monde catholique\, le Vatican et les\nprincipaux monuments de Rome et nous aurons l’occasion de rencontrer le Pape Leon XIV lors de l’audience hebdomadaire du\nmercredi sur la place St Pierre. \nPrix dU pèlerinage 580€ pour un paroissien (conditions spéciales pour les couples ou les membres d’une même famille).\nPossibilité de payer en 4 fois : août / sept / oct / nov.\nCe prix comprend le transport aller-retour en car\, l’hébergement en mobil home dans un camping\, les repas et visites. \nInscriptions au presbytère : 4 rue Verrerie 30200 BAGNOLS SUR CEZE \n(Accueil le matin entre 9h30 et 11h30) \n60 pèlerins : 24 jeunes et 36 adultes (parents et paroissiens).\nConfions-leur nos intentions de prières
URL:https://cathobagnols.fr/event/pelerinage-a-rome/
ORGANIZER;CN="Ensemble Paroissial de Bagnols sur C%C3%A8ze":MAILTO:paroisse.stjeanbaptiste@orange.fr
END:VEVENT
BEGIN:VEVENT
DTSTART;TZID=UTC:20251019T090000
DTEND;TZID=UTC:20251019T170000
DTSTAMP:20260425T103644
CREATED:20250612T123935Z
LAST-MODIFIED:20251010T075645Z
UID:4235-1760864400-1760893200@cathobagnols.fr
SUMMARY:Rencontre ACI (Action catholique des milieux indépendants)
DESCRIPTION:À 16h\, messe ouverte à tous\, animée par les équipes ACI à l’église de Connaux.
URL:https://cathobagnols.fr/event/rencontre-aci-action-catholique-des-milieux-independants/
LOCATION:Foyer Notre Dame\, Connaux\, 30330\, France
END:VEVENT
BEGIN:VEVENT
DTSTART;TZID=UTC:20251020T140000
DTEND;TZID=UTC:20251020T170000
DTSTAMP:20260425T103644
CREATED:20250914T185841Z
LAST-MODIFIED:20250914T185841Z
UID:4609-1760968800-1760979600@cathobagnols.fr
SUMMARY:Rencontre de l'Hospitalité
DESCRIPTION:
URL:https://cathobagnols.fr/event/rencontre-de-lhospitalite/
LOCATION:Espace Saint Jean XXIII \,Bagnols sur Cèze\, France
END:VEVENT
BEGIN:VEVENT
DTSTART;TZID=UTC:20251021T150000
DTEND;TZID=UTC:20251021T160000
DTSTAMP:20260425T103644
CREATED:20251017T152628Z
LAST-MODIFIED:20251017T152628Z
UID:4759-1761058800-1761062400@cathobagnols.fr
SUMMARY:Messe à l' EHPAD Bonnefond
DESCRIPTION:Messe ouverte à tous.
URL:https://cathobagnols.fr/event/messe-a-l-ehpad-bonnefond/
LOCATION:EHPAD Bonnefond\, 4 bis Montée des Oliviers\, Bagnols sur Cèze\, 30200\, France
ORGANIZER;CN="Ensemble Paroissial de Bagnols sur C%C3%A8ze":MAILTO:paroisse.stjeanbaptiste@orange.fr
END:VEVENT
END:VCALENDAR