BEGIN:VCALENDAR
VERSION:2.0
PRODID:-//Ensemble Paroissial de Bagnols-sur-C&egrave;ze - ECPv6.15.20//NONSGML v1.0//EN
CALSCALE:GREGORIAN
METHOD:PUBLISH
X-WR-CALNAME:Ensemble Paroissial de Bagnols-sur-C&egrave;ze
X-ORIGINAL-URL:https://cathobagnols.fr
X-WR-CALDESC:Évènements pour Ensemble Paroissial de Bagnols-sur-C&egrave;ze
REFRESH-INTERVAL;VALUE=DURATION:PT1H
X-Robots-Tag:noindex
X-PUBLISHED-TTL:PT1H
BEGIN:VTIMEZONE
TZID:UTC
BEGIN:STANDARD
TZOFFSETFROM:+0000
TZOFFSETTO:+0000
TZNAME:UTC
DTSTART:20250101T000000
END:STANDARD
END:VTIMEZONE
BEGIN:VEVENT
DTSTART;TZID=UTC:20260508T080000
DTEND;TZID=UTC:20260510T170000
DTSTAMP:20260421T090820
CREATED:20250621T145007Z
LAST-MODIFIED:20250621T145007Z
UID:4370-1778227200-1778432400@cathobagnols.fr
SUMMARY:Pèlerinage à Lourdes
DESCRIPTION:Jeunes & parents + paroissiens
URL:https://cathobagnols.fr/event/pelerinage-a-lourdes-2/
END:VEVENT
BEGIN:VEVENT
DTSTART;TZID=UTC:20260512T200000
DTEND;TZID=UTC:20260512T220000
DTSTAMP:20260421T090820
CREATED:20250624T193359Z
LAST-MODIFIED:20250624T193359Z
UID:4403-1778616000-1778623200@cathobagnols.fr
SUMMARY:Réunion bible et questions de foi
DESCRIPTION:
URL:https://cathobagnols.fr/event/reunion-bible-et-questions-de-foi-7/
LOCATION:Espace Saint Jean XXIII\, chapelle de l'ancyse\, BAGNOLS SUR CEZE\, 30200\, France
ORGANIZER;CN="Ensemble Paroissial de Bagnols sur C%C3%A8ze":MAILTO:paroisse.stjeanbaptiste@orange.fr
END:VEVENT
BEGIN:VEVENT
DTSTART;TZID=UTC:20260517T130000
DTEND;TZID=UTC:20260517T170000
DTSTAMP:20260421T090820
CREATED:20250612T121327Z
LAST-MODIFIED:20250612T121327Z
UID:4229-1779022800-1779037200@cathobagnols.fr
SUMMARY:Messe en famille
DESCRIPTION:
URL:https://cathobagnols.fr/event/messe-en-famille-9/
LOCATION:Espace Saint Jean XXIII\, chapelle de l'ancyse\, BAGNOLS SUR CEZE\, 30200\, France
ORGANIZER;CN="Ensemble Paroissial de Bagnols sur C%C3%A8ze":MAILTO:paroisse.stjeanbaptiste@orange.fr
END:VEVENT
BEGIN:VEVENT
DTSTART;TZID=UTC:20260517T140000
DTEND;TZID=UTC:20260517T193000
DTSTAMP:20260421T090820
CREATED:20251006T095913Z
LAST-MODIFIED:20251006T095913Z
UID:4718-1779026400-1779046200@cathobagnols.fr
SUMMARY:Réunion pour les baptêmes des enfants en âge scolaire
DESCRIPTION:
URL:https://cathobagnols.fr/event/reunion-pour-les-baptemes-des-enfants-en-age-scolaire-5/
LOCATION:Espace Saint Jean XXIII\, chapelle de l'ancyse\, BAGNOLS SUR CEZE\, 30200\, France
ORGANIZER;CN="Ensemble Paroissial de Bagnols sur C%C3%A8ze":MAILTO:paroisse.stjeanbaptiste@orange.fr
END:VEVENT
BEGIN:VEVENT
DTSTART;TZID=UTC:20260522T180000
DTEND;TZID=UTC:20260522T213000
DTSTAMP:20260421T090820
CREATED:20250607T112043Z
LAST-MODIFIED:20250621T145115Z
UID:4197-1779472800-1779485400@cathobagnols.fr
SUMMARY:Soirée aumonerie collèges et lycées
DESCRIPTION:6°-5° : 18h\n4°-3° & Lycéens : 19h
URL:https://cathobagnols.fr/event/soiree-aumonerie-colleges-et-lycees-15/
LOCATION:Espace Saint Jean XXIII\, chapelle de l'ancyse\, BAGNOLS SUR CEZE\, 30200\, France
END:VEVENT
BEGIN:VEVENT
DTSTART;TZID=UTC:20260524T103000
DTEND;TZID=UTC:20260524T120000
DTSTAMP:20260421T090820
CREATED:20250621T145404Z
LAST-MODIFIED:20250621T145404Z
UID:4373-1779618600-1779624000@cathobagnols.fr
SUMMARY:Profession de foi des jeunes
DESCRIPTION:
URL:https://cathobagnols.fr/event/profession-de-foi-des-jeunes/
LOCATION:Eglise Saint Jean-Baptiste\, 6 Pl. Saint-Jean 4\,\, Bagnols-sur-Cèze\, france\, 30200
ORGANIZER;CN="Ensemble Paroissial de Bagnols sur C%C3%A8ze":MAILTO:paroisse.stjeanbaptiste@orange.fr
END:VEVENT
BEGIN:VEVENT
DTSTART;TZID=UTC:20260526T150000
DTEND;TZID=UTC:20260526T170000
DTSTAMP:20260421T090820
CREATED:20260109T084420Z
LAST-MODIFIED:20260109T084420Z
UID:5119-1779807600-1779814800@cathobagnols.fr
SUMMARY:Rencontre biblique
DESCRIPTION:animée par Jean-François Doucet
URL:https://cathobagnols.fr/event/rencontre-biblique-8/
LOCATION:Espace Saint Jean XXIII\, chapelle de l'ancyse\, BAGNOLS SUR CEZE\, 30200\, France
ORGANIZER;CN="Jean-Fran%C3%A7ois Doucet":MAILTO:Jefba30200@outlook.fr
END:VEVENT
BEGIN:VEVENT
DTSTART;TZID=UTC:20260527T080000
DTEND;TZID=UTC:20260528T200000
DTSTAMP:20260421T090820
CREATED:20260102T190619Z
LAST-MODIFIED:20260123T140345Z
UID:5087-1779868800-1779998400@cathobagnols.fr
SUMMARY:Pèlerinage paroissial à Marseille
DESCRIPTION:Pèlerinage paroissial à MARSEILLE les 27 et 28 mai 2026 \nVenez découvrir les racines de la foi chrétienne dans le bassin phocéen avec la visite de l’Abbaye Saint Victor\, la Basilique Notre-Dame de la Garde\, la Cathédrale La Major avec en plus la découverte du MUCEM (Musée des civilisations de l’Europe et de la Méditerranée) et la visite de la grotte Cosquer.\nprix : 230 € en chambre double / 270 € en chambre individuelle \nInscriptions ouvertes au presbytère / Renseignements auprès de Françoise au 06.80.10.58.32
URL:https://cathobagnols.fr/event/pelerinage-paroissial-a-marseille/
END:VEVENT
BEGIN:VEVENT
DTSTART;TZID=UTC:20260605T183000
DTEND;TZID=UTC:20260605T213000
DTSTAMP:20260421T090820
CREATED:20250621T145623Z
LAST-MODIFIED:20250621T145623Z
UID:4375-1780684200-1780695000@cathobagnols.fr
SUMMARY:Soirée bilan aumonerie avec les parents
DESCRIPTION:
URL:https://cathobagnols.fr/event/soiree-bilan-aumonerie-avec-les-parents/
LOCATION:Espace Saint Jean XXIII\, chapelle de l'ancyse\, BAGNOLS SUR CEZE\, 30200\, France
END:VEVENT
BEGIN:VEVENT
DTSTART;TZID=UTC:20260606T080000
DTEND;TZID=UTC:20260607T170000
DTSTAMP:20260421T090820
CREATED:20250621T150017Z
LAST-MODIFIED:20250621T150017Z
UID:4377-1780732800-1780851600@cathobagnols.fr
SUMMARY:Retraite communion
DESCRIPTION:
URL:https://cathobagnols.fr/event/retraite-communion/
LOCATION:Marsanne\, France
ORGANIZER;CN="Ensemble Paroissial de Bagnols sur C%C3%A8ze":MAILTO:paroisse.stjeanbaptiste@orange.fr
END:VEVENT
BEGIN:VEVENT
DTSTART;TZID=UTC:20260606T100000
DTEND;TZID=UTC:20260606T120000
DTSTAMP:20260421T090820
CREATED:20251123T093737Z
LAST-MODIFIED:20251123T093737Z
UID:4935-1780740000-1780747200@cathobagnols.fr
SUMMARY:Catéchisme Bagnols sur Cèze
DESCRIPTION:
URL:https://cathobagnols.fr/event/catechisme-bagnols-sur-ceze-16/
LOCATION:Espace Saint Jean XXIII\, chapelle de l'ancyse\, BAGNOLS SUR CEZE\, 30200\, France
ORGANIZER;CN="CAMARA Marceline":MAILTO:Marcelinecamara76@gmail.com
END:VEVENT
BEGIN:VEVENT
DTSTART;TZID=UTC:20260609T200000
DTEND;TZID=UTC:20260609T220000
DTSTAMP:20260421T090820
CREATED:20250624T193538Z
LAST-MODIFIED:20250624T193538Z
UID:4405-1781035200-1781042400@cathobagnols.fr
SUMMARY:Réunion bible et questions de foi
DESCRIPTION:
URL:https://cathobagnols.fr/event/reunion-bible-et-questions-de-foi-8/
LOCATION:Espace Saint Jean XXIII\, chapelle de l'ancyse\, BAGNOLS SUR CEZE\, 30200\, France
ORGANIZER;CN="Ensemble Paroissial de Bagnols sur C%C3%A8ze":MAILTO:paroisse.stjeanbaptiste@orange.fr
END:VEVENT
BEGIN:VEVENT
DTSTART;TZID=UTC:20260613T090000
DTEND;TZID=UTC:20260613T120000
DTSTAMP:20260421T090820
CREATED:20250612T121555Z
LAST-MODIFIED:20251006T100612Z
UID:4231-1781341200-1781352000@cathobagnols.fr
SUMMARY:Sacrement de réconciliation (enfants)
DESCRIPTION:
URL:https://cathobagnols.fr/event/messe-en-famille-10/
LOCATION:Espace Saint Jean XXIII\, chapelle de l'ancyse\, BAGNOLS SUR CEZE\, 30200\, France
ORGANIZER;CN="Ensemble Paroissial de Bagnols sur C%C3%A8ze":MAILTO:paroisse.stjeanbaptiste@orange.fr
END:VEVENT
BEGIN:VEVENT
DTSTART;TZID=UTC:20260614T103000
DTEND;TZID=UTC:20260614T120000
DTSTAMP:20260421T090820
CREATED:20250621T150114Z
LAST-MODIFIED:20250621T150114Z
UID:4379-1781433000-1781438400@cathobagnols.fr
SUMMARY:Messe communion
DESCRIPTION:
URL:https://cathobagnols.fr/event/messe-communion/
LOCATION:Eglise Saint Jean-Baptiste\, 6 Pl. Saint-Jean 4\,\, Bagnols-sur-Cèze\, france\, 30200
ORGANIZER;CN="Ensemble Paroissial de Bagnols sur C%C3%A8ze":MAILTO:paroisse.stjeanbaptiste@orange.fr
END:VEVENT
BEGIN:VEVENT
DTSTART;TZID=UTC:20260619T173000
DTEND;TZID=UTC:20260619T213000
DTSTAMP:20260421T090820
CREATED:20250607T112431Z
LAST-MODIFIED:20250624T193808Z
UID:4201-1781890200-1781904600@cathobagnols.fr
SUMMARY:Soirée aumonerie collèges et lycées
DESCRIPTION:
URL:https://cathobagnols.fr/event/soiree-aumonerie-colleges-et-lycees-17/
LOCATION:Espace Saint Jean XXIII\, chapelle de l'ancyse\, BAGNOLS SUR CEZE\, 30200\, France
END:VEVENT
BEGIN:VEVENT
DTSTART;TZID=UTC:20260620T100000
DTEND;TZID=UTC:20260620T120000
DTSTAMP:20260421T090820
CREATED:20251123T093903Z
LAST-MODIFIED:20251123T093903Z
UID:4937-1781949600-1781956800@cathobagnols.fr
SUMMARY:Catéchisme Bagnols sur Cèze
DESCRIPTION:
URL:https://cathobagnols.fr/event/catechisme-bagnols-sur-ceze-17/
LOCATION:Espace Saint Jean XXIII\, chapelle de l'ancyse\, BAGNOLS SUR CEZE\, 30200\, France
ORGANIZER;CN="CAMARA Marceline":MAILTO:Marcelinecamara76@gmail.com
END:VEVENT
BEGIN:VEVENT
DTSTART;TZID=UTC:20260621T103000
DTEND;TZID=UTC:20260621T120000
DTSTAMP:20260421T090820
CREATED:20250621T150302Z
LAST-MODIFIED:20250621T150302Z
UID:4381-1782037800-1782043200@cathobagnols.fr
SUMMARY:Messe communion
DESCRIPTION:
URL:https://cathobagnols.fr/event/messe-communion-2/
LOCATION:Eglise Saint Jean-Baptiste\, 6 Pl. Saint-Jean 4\,\, Bagnols-sur-Cèze\, france\, 30200
ORGANIZER;CN="Ensemble Paroissial de Bagnols sur C%C3%A8ze":MAILTO:paroisse.stjeanbaptiste@orange.fr
END:VEVENT
BEGIN:VEVENT
DTSTART;TZID=UTC:20260628T100000
DTEND;TZID=UTC:20260628T180000
DTSTAMP:20260421T090820
CREATED:20260205T094922Z
LAST-MODIFIED:20260205T094922Z
UID:5190-1782640800-1782669600@cathobagnols.fr
SUMMARY:Repas paroissial
DESCRIPTION:
URL:https://cathobagnols.fr/event/repas-paroissial/
LOCATION:Espace Saint Jean XXIII\, chapelle de l'ancyse\, BAGNOLS SUR CEZE\, 30200\, France
ORGANIZER;CN="Ensemble Paroissial de Bagnols sur C%C3%A8ze":MAILTO:paroisse.stjeanbaptiste@orange.fr
END:VEVENT
END:VCALENDAR