BEGIN:VCALENDAR
VERSION:2.0
PRODID:-//Ensemble Paroissial de Bagnols-sur-C&egrave;ze - ECPv6.15.20//NONSGML v1.0//EN
CALSCALE:GREGORIAN
METHOD:PUBLISH
X-WR-CALNAME:Ensemble Paroissial de Bagnols-sur-C&egrave;ze
X-ORIGINAL-URL:https://cathobagnols.fr
X-WR-CALDESC:Évènements pour Ensemble Paroissial de Bagnols-sur-C&egrave;ze
REFRESH-INTERVAL;VALUE=DURATION:PT1H
X-Robots-Tag:noindex
X-PUBLISHED-TTL:PT1H
BEGIN:VTIMEZONE
TZID:UTC
BEGIN:STANDARD
TZOFFSETFROM:+0000
TZOFFSETTO:+0000
TZNAME:UTC
DTSTART:20250101T000000
END:STANDARD
END:VTIMEZONE
BEGIN:VEVENT
DTSTART;TZID=UTC:20260503T090000
DTEND;TZID=UTC:20260503T170000
DTSTAMP:20260419T151652
CREATED:20260306T163244Z
LAST-MODIFIED:20260320T141618Z
UID:5315-1777798800-1777827600@cathobagnols.fr
SUMMARY:Journée marche paroissiale
DESCRIPTION:autour de Le Pin\nRDV au parking des randonneurs (avant l’entrée du village en arrivant de Saint Pons la Calm\, à droite) pour un départ à 9h00. \nPremier acte : 9h- 11h30\nDirection le Mas Palisse pour un temps d’accueil et de discussion après lecture de l’Évangile.\nRetour vers Le pin pour la messe dominicale à 10h30. \nDeuxième acte : 11h45-12h30\nAprès la messe\, deux groupes seront formés pour prendre la direction de l’oppidum de Gaujac par 2 chemins différents “temps de réflexion en duo” \nTroisième acte : 12h30-15h\nPause repas tiré du sac et visite guidée de l’oppidum de Gaujac. \nQuatrième acte : 15h-17h\nDépart pour la grande boucle vers “le Moulin” avec un temps de louanges puis retour vers Le Pin. \nLes indispensables:\n-Programme\n-Eau et pique-nique\n-Protection solaire\n-Chaussures de marche \nCette journée se compose de plusieurs actes.\nChacun est libre de participer à la totalité de l’événement ou seulement aux actes de son choix. \nContact\nJonathan\n06 12 26 13 23
URL:https://cathobagnols.fr/event/journee-marche-paroissiale/
END:VEVENT
END:VCALENDAR