BEGIN:VCALENDAR
VERSION:2.0
PRODID:-//Ensemble Paroissial de Bagnols-sur-C&egrave;ze - ECPv6.15.20//NONSGML v1.0//EN
CALSCALE:GREGORIAN
METHOD:PUBLISH
X-WR-CALNAME:Ensemble Paroissial de Bagnols-sur-C&egrave;ze
X-ORIGINAL-URL:https://cathobagnols.fr
X-WR-CALDESC:Évènements pour Ensemble Paroissial de Bagnols-sur-C&egrave;ze
REFRESH-INTERVAL;VALUE=DURATION:PT1H
X-Robots-Tag:noindex
X-PUBLISHED-TTL:PT1H
BEGIN:VTIMEZONE
TZID:UTC
BEGIN:STANDARD
TZOFFSETFROM:+0000
TZOFFSETTO:+0000
TZNAME:UTC
DTSTART:20250101T000000
END:STANDARD
END:VTIMEZONE
BEGIN:VEVENT
DTSTART;TZID=UTC:20260415T150000
DTEND;TZID=UTC:20260415T170000
DTSTAMP:20260419T151717
CREATED:20260411T012644Z
LAST-MODIFIED:20260411T012644Z
UID:5464-1776265200-1776272400@cathobagnols.fr
SUMMARY:Rencontre des Amies de Jeanne Antide
DESCRIPTION:
URL:https://cathobagnols.fr/event/rencontre-des-amies-de-jeanne-antide-3/
LOCATION:Espace Saint Jean XXIII\, chapelle de l'ancyse\, BAGNOLS SUR CEZE\, 30200\, France
END:VEVENT
BEGIN:VEVENT
DTSTART;TZID=UTC:20260415T183000
DTEND;TZID=UTC:20260415T200000
DTSTAMP:20260419T151717
CREATED:20260411T012845Z
LAST-MODIFIED:20260411T012845Z
UID:5466-1776277800-1776283200@cathobagnols.fr
SUMMARY:Rencontre des catéchumènes
DESCRIPTION:
URL:https://cathobagnols.fr/event/rencontre-des-catechumenes-8/
LOCATION:Espace Saint Jean XXIII\, chapelle de l'ancyse\, BAGNOLS SUR CEZE\, 30200\, France
ORGANIZER;CN="Ensemble Paroissial de Bagnols sur C%C3%A8ze":MAILTO:paroisse.stjeanbaptiste@orange.fr
END:VEVENT
END:VCALENDAR