BEGIN:VCALENDAR
VERSION:2.0
PRODID:-//Ensemble Paroissial de Bagnols-sur-C&egrave;ze - ECPv6.15.20//NONSGML v1.0//EN
CALSCALE:GREGORIAN
METHOD:PUBLISH
X-ORIGINAL-URL:https://cathobagnols.fr
X-WR-CALDESC:Évènements pour Ensemble Paroissial de Bagnols-sur-C&egrave;ze
REFRESH-INTERVAL;VALUE=DURATION:PT1H
X-Robots-Tag:noindex
X-PUBLISHED-TTL:PT1H
BEGIN:VTIMEZONE
TZID:UTC
BEGIN:STANDARD
TZOFFSETFROM:+0000
TZOFFSETTO:+0000
TZNAME:UTC
DTSTART:20250101T000000
END:STANDARD
END:VTIMEZONE
BEGIN:VEVENT
DTSTART;TZID=UTC:20260411T100000
DTEND;TZID=UTC:20260411T110000
DTSTAMP:20260421T104658
CREATED:20260405T202540Z
LAST-MODIFIED:20260405T202540Z
UID:5448-1775901600-1775905200@cathobagnols.fr
SUMMARY:Baptême à St Jean Baptiste de Bagnols
DESCRIPTION:
URL:https://cathobagnols.fr/event/bapteme-a-st-jean-baptiste-de-bagnols/
LOCATION:Eglise Saint Jean-Baptiste\, 6 Pl. Saint-Jean 4\,\, Bagnols-sur-Cèze\, france\, 30200
ORGANIZER;CN="Ensemble Paroissial de Bagnols sur C%C3%A8ze":MAILTO:paroisse.stjeanbaptiste@orange.fr
END:VEVENT
BEGIN:VEVENT
DTSTART;TZID=UTC:20260411T100000
DTEND;TZID=UTC:20260411T120000
DTSTAMP:20260421T104658
CREATED:20251123T093455Z
LAST-MODIFIED:20251123T093455Z
UID:4931-1775901600-1775908800@cathobagnols.fr
SUMMARY:Catéchisme Bagnols sur Cèze
DESCRIPTION:
URL:https://cathobagnols.fr/event/catechisme-bagnols-sur-ceze-14/
LOCATION:Espace Saint Jean XXIII\, chapelle de l'ancyse\, BAGNOLS SUR CEZE\, 30200\, France
ORGANIZER;CN="CAMARA Marceline":MAILTO:Marcelinecamara76@gmail.com
END:VEVENT
BEGIN:VEVENT
DTSTART;TZID=UTC:20260411T180000
DTEND;TZID=UTC:20260411T190000
DTSTAMP:20260421T104658
CREATED:20260405T202843Z
LAST-MODIFIED:20260405T202843Z
UID:5450-1775930400-1775934000@cathobagnols.fr
SUMMARY:Concert La Jouvenço à St Jean Baptiste
DESCRIPTION:
URL:https://cathobagnols.fr/event/concert-la-jouvenco-a-st-jean-baptiste/
LOCATION:Eglise Saint Jean-Baptiste\, 6 Pl. Saint-Jean 4\,\, Bagnols-sur-Cèze\, france\, 30200
END:VEVENT
END:VCALENDAR