BEGIN:VCALENDAR
VERSION:2.0
PRODID:-//Ensemble Paroissial de Bagnols-sur-C&egrave;ze - ECPv6.15.20//NONSGML v1.0//EN
CALSCALE:GREGORIAN
METHOD:PUBLISH
X-ORIGINAL-URL:https://cathobagnols.fr
X-WR-CALDESC:Évènements pour Ensemble Paroissial de Bagnols-sur-C&egrave;ze
REFRESH-INTERVAL;VALUE=DURATION:PT1H
X-Robots-Tag:noindex
X-PUBLISHED-TTL:PT1H
BEGIN:VTIMEZONE
TZID:UTC
BEGIN:STANDARD
TZOFFSETFROM:+0000
TZOFFSETTO:+0000
TZNAME:UTC
DTSTART:20250101T000000
END:STANDARD
END:VTIMEZONE
BEGIN:VEVENT
DTSTART;TZID=UTC:20260402T183000
DTEND;TZID=UTC:20260402T220000
DTSTAMP:20260421T124008
CREATED:20260320T134650Z
LAST-MODIFIED:20260320T134650Z
UID:5385-1775154600-1775167200@cathobagnols.fr
SUMMARY:Jeudi Saint à Tresques
DESCRIPTION:Messe de l’Institution de l’Eucharistie à Tresques suivie de l’adoration eucharistique aux Reposoirs jusqu’à 22 heures.
URL:https://cathobagnols.fr/event/jeudi-saint-a-tresques/
LOCATION:Eglise de Tresques
ORGANIZER;CN="Ensemble Paroissial de Bagnols sur C%C3%A8ze":MAILTO:paroisse.stjeanbaptiste@orange.fr
END:VEVENT
BEGIN:VEVENT
DTSTART;TZID=UTC:20260402T183000
DTEND;TZID=UTC:20260402T235900
DTSTAMP:20260421T124008
CREATED:20260320T134312Z
LAST-MODIFIED:20260320T134312Z
UID:5383-1775154600-1775174340@cathobagnols.fr
SUMMARY:Jeudi saint à Bagnols
DESCRIPTION:Messe de l’Institution de l’Eucharistie suivie de l’adoration eucharistique aux Reposoirs jusqu’à minuit\, avec Permanence Confessions de 20h à 24h.
URL:https://cathobagnols.fr/event/jeudi-saint-a-bagnols/
LOCATION:Eglise Saint Jean-Baptiste\, 6 Pl. Saint-Jean 4\,\, Bagnols-sur-Cèze\, france\, 30200
ORGANIZER;CN="Ensemble Paroissial de Bagnols sur C%C3%A8ze":MAILTO:paroisse.stjeanbaptiste@orange.fr
END:VEVENT
END:VCALENDAR