BEGIN:VCALENDAR
VERSION:2.0
PRODID:-//Ensemble Paroissial de Bagnols-sur-C&egrave;ze - ECPv6.15.20//NONSGML v1.0//EN
CALSCALE:GREGORIAN
METHOD:PUBLISH
X-WR-CALNAME:Ensemble Paroissial de Bagnols-sur-C&egrave;ze
X-ORIGINAL-URL:https://cathobagnols.fr
X-WR-CALDESC:Évènements pour Ensemble Paroissial de Bagnols-sur-C&egrave;ze
REFRESH-INTERVAL;VALUE=DURATION:PT1H
X-Robots-Tag:noindex
X-PUBLISHED-TTL:PT1H
BEGIN:VTIMEZONE
TZID:UTC
BEGIN:STANDARD
TZOFFSETFROM:+0000
TZOFFSETTO:+0000
TZNAME:UTC
DTSTART:20250101T000000
END:STANDARD
END:VTIMEZONE
BEGIN:VEVENT
DTSTART;TZID=UTC:20260328T100000
DTEND;TZID=UTC:20260328T120000
DTSTAMP:20260419T213343
CREATED:20251123T093336Z
LAST-MODIFIED:20251123T093336Z
UID:4929-1774692000-1774699200@cathobagnols.fr
SUMMARY:Catéchisme Bagnols sur Cèze
DESCRIPTION:
URL:https://cathobagnols.fr/event/catechisme-bagnols-sur-ceze-13/
LOCATION:Espace Saint Jean XXIII\, chapelle de l'ancyse\, BAGNOLS SUR CEZE\, 30200\, France
ORGANIZER;CN="CAMARA Marceline":MAILTO:Marcelinecamara76@gmail.com
END:VEVENT
BEGIN:VEVENT
DTSTART;TZID=UTC:20260328T103000
DTEND;TZID=UTC:20260328T113000
DTSTAMP:20260419T213343
CREATED:20260320T084119Z
LAST-MODIFIED:20260320T084119Z
UID:5360-1774693800-1774697400@cathobagnols.fr
SUMMARY:Permanences confessions
DESCRIPTION:
URL:https://cathobagnols.fr/event/permanences-confessions/
LOCATION:Eglise Saint Jean-Baptiste\, 6 Pl. Saint-Jean 4\,\, Bagnols-sur-Cèze\, france\, 30200
ORGANIZER;CN="Ensemble Paroissial de Bagnols sur C%C3%A8ze":MAILTO:paroisse.stjeanbaptiste@orange.fr
END:VEVENT
BEGIN:VEVENT
DTSTART;TZID=UTC:20260328T103000
DTEND;TZID=UTC:20260328T113000
DTSTAMP:20260419T213343
CREATED:20260320T084335Z
LAST-MODIFIED:20260320T084335Z
UID:5362-1774693800-1774697400@cathobagnols.fr
SUMMARY:Permanences Confessions à Saint Pons la Calm
DESCRIPTION:
URL:https://cathobagnols.fr/event/permanences-confessions-a-saint-pons-la-calm/
LOCATION:Eglise de Saint Pons la Calm\, Saint pons la Calm\, France
ORGANIZER;CN="Ensemble Paroissial de Bagnols sur C%C3%A8ze":MAILTO:paroisse.stjeanbaptiste@orange.fr
END:VEVENT
BEGIN:VEVENT
DTSTART;TZID=UTC:20260328T170000
DTEND;TZID=UTC:20260328T180000
DTSTAMP:20260419T213343
CREATED:20260320T084503Z
LAST-MODIFIED:20260320T084503Z
UID:5364-1774717200-1774720800@cathobagnols.fr
SUMMARY:Permanences Confessions à l'Ancise
DESCRIPTION:
URL:https://cathobagnols.fr/event/permanences-confessions-a-lancise/
LOCATION:Espace Saint Jean XXIII\, chapelle de l'ancyse\, BAGNOLS SUR CEZE\, 30200\, France
ORGANIZER;CN="Ensemble Paroissial de Bagnols sur C%C3%A8ze":MAILTO:paroisse.stjeanbaptiste@orange.fr
END:VEVENT
BEGIN:VEVENT
DTSTART;TZID=UTC:20260328T180000
DTEND;TZID=UTC:20260328T193000
DTSTAMP:20260419T213343
CREATED:20260320T083939Z
LAST-MODIFIED:20260320T085320Z
UID:5358-1774720800-1774726200@cathobagnols.fr
SUMMARY:Solennité des Rameaux\, messe à l'Ancise
DESCRIPTION:Bénédiction des rameaux pendant la messe\ndiffusion du journal paroissial ADVENTUS\nvente d’œufs en chocolats par l’Hospitalité.
URL:https://cathobagnols.fr/event/solennite-des-rameaux-messe-a-lancise/
LOCATION:Espace Saint Jean XXIII\, chapelle de l'ancyse\, BAGNOLS SUR CEZE\, 30200\, France
ORGANIZER;CN="Ensemble Paroissial de Bagnols sur C%C3%A8ze":MAILTO:paroisse.stjeanbaptiste@orange.fr
END:VEVENT
END:VCALENDAR