BEGIN:VCALENDAR
VERSION:2.0
PRODID:-//Ensemble Paroissial de Bagnols-sur-C&egrave;ze - ECPv6.15.20//NONSGML v1.0//EN
CALSCALE:GREGORIAN
METHOD:PUBLISH
X-ORIGINAL-URL:https://cathobagnols.fr
X-WR-CALDESC:Évènements pour Ensemble Paroissial de Bagnols-sur-C&egrave;ze
REFRESH-INTERVAL;VALUE=DURATION:PT1H
X-Robots-Tag:noindex
X-PUBLISHED-TTL:PT1H
BEGIN:VTIMEZONE
TZID:UTC
BEGIN:STANDARD
TZOFFSETFROM:+0000
TZOFFSETTO:+0000
TZNAME:UTC
DTSTART:20250101T000000
END:STANDARD
END:VTIMEZONE
BEGIN:VEVENT
DTSTART;TZID=UTC:20260327T121500
DTEND;TZID=UTC:20260327T124500
DTSTAMP:20260421T143944
CREATED:20260209T180012Z
LAST-MODIFIED:20260209T180012Z
UID:5223-1774613700-1774615500@cathobagnols.fr
SUMMARY:Prière du vendredi de Carême à Chusclan
DESCRIPTION:
URL:https://cathobagnols.fr/event/priere-du-vendredi-de-careme-a-chusclan-7/
LOCATION:Église de Chusclan
END:VEVENT
BEGIN:VEVENT
DTSTART;TZID=UTC:20260327T140000
DTEND;TZID=UTC:20260327T150000
DTSTAMP:20260421T143944
CREATED:20260320T083511Z
LAST-MODIFIED:20260320T083511Z
UID:5354-1774620000-1774623600@cathobagnols.fr
SUMMARY:Messe à l’EHPAD des 7 Sources
DESCRIPTION:
URL:https://cathobagnols.fr/event/messe-a-lehpad-des-7-sources-13/
LOCATION:EHPAD des 7 sources\, 5 Rue Jacqueline Bret Andre\, Bagnols-Sur-Cèze.\, 30200\, France
ORGANIZER;CN="Ensemble Paroissial de Bagnols sur C%C3%A8ze":MAILTO:paroisse.stjeanbaptiste@orange.fr
END:VEVENT
BEGIN:VEVENT
DTSTART;TZID=UTC:20260327T150000
DTEND;TZID=UTC:20260327T160000
DTSTAMP:20260421T143944
CREATED:20260320T083621Z
LAST-MODIFIED:20260320T083621Z
UID:5356-1774623600-1774627200@cathobagnols.fr
SUMMARY:Messe dite ”du Saint Sépulcre” à l’église de St Pons la Calm
DESCRIPTION:
URL:https://cathobagnols.fr/event/messe-dite-du-saint-sepulcre-a-leglise-de-st-pons-la-calm/
LOCATION:Eglise de Saint Pons la Calm\, Saint pons la Calm\, France
ORGANIZER;CN="Ensemble Paroissial de Bagnols sur C%C3%A8ze":MAILTO:paroisse.stjeanbaptiste@orange.fr
END:VEVENT
BEGIN:VEVENT
DTSTART;TZID=UTC:20260327T180000
DTEND;TZID=UTC:20260327T213000
DTSTAMP:20260421T143944
CREATED:20250607T111728Z
LAST-MODIFIED:20250621T144127Z
UID:4193-1774634400-1774647000@cathobagnols.fr
SUMMARY:Soirée aumonerie collèges et lycées
DESCRIPTION:6°-5° : 18h\n4°-3° & Lycéens : 19h
URL:https://cathobagnols.fr/event/soiree-aumonerie-colleges-et-lycees-13/
LOCATION:Espace Saint Jean XXIII\, chapelle de l'ancyse\, BAGNOLS SUR CEZE\, 30200\, France
END:VEVENT
END:VCALENDAR