BEGIN:VCALENDAR
VERSION:2.0
PRODID:-//Ensemble Paroissial de Bagnols-sur-C&egrave;ze - ECPv6.15.20//NONSGML v1.0//EN
CALSCALE:GREGORIAN
METHOD:PUBLISH
X-WR-CALNAME:Ensemble Paroissial de Bagnols-sur-C&egrave;ze
X-ORIGINAL-URL:https://cathobagnols.fr
X-WR-CALDESC:Évènements pour Ensemble Paroissial de Bagnols-sur-C&egrave;ze
REFRESH-INTERVAL;VALUE=DURATION:PT1H
X-Robots-Tag:noindex
X-PUBLISHED-TTL:PT1H
BEGIN:VTIMEZONE
TZID:UTC
BEGIN:STANDARD
TZOFFSETFROM:+0000
TZOFFSETTO:+0000
TZNAME:UTC
DTSTART:20250101T000000
END:STANDARD
END:VTIMEZONE
BEGIN:VEVENT
DTSTART;TZID=UTC:20260325T093000
DTEND;TZID=UTC:20260325T143000
DTSTAMP:20260425T104951
CREATED:20260320T083038Z
LAST-MODIFIED:20260320T083038Z
UID:5350-1774431000-1774449000@cathobagnols.fr
SUMMARY:Fête de l’Annonciation\, messe à Connaux
DESCRIPTION:
URL:https://cathobagnols.fr/event/fete-de-lannonciation-messe-a-connaux/
LOCATION:Eglise de Connaux\, Eglise Saint Benoit\, Pl. de l'Église\, 30330 Connaux\, Connaux\, occitanie\, 30200\, France
ORGANIZER;CN="Ensemble Paroissial de Bagnols sur C%C3%A8ze":MAILTO:paroisse.stjeanbaptiste@orange.fr
END:VEVENT
BEGIN:VEVENT
DTSTART;TZID=UTC:20260325T183000
DTEND;TZID=UTC:20260325T193000
DTSTAMP:20260425T104951
CREATED:20260320T083259Z
LAST-MODIFIED:20260320T083259Z
UID:5352-1774463400-1774467000@cathobagnols.fr
SUMMARY:Fête de l’Annonciation\, messe à Saint Jean-Baptiste
DESCRIPTION:
URL:https://cathobagnols.fr/event/fete-de-lannonciation-messe-a-saint-jean-baptiste/
LOCATION:Eglise Saint Jean-Baptiste\, 6 Pl. Saint-Jean 4\,\, Bagnols-sur-Cèze\, france\, 30200
ORGANIZER;CN="Ensemble Paroissial de Bagnols sur C%C3%A8ze":MAILTO:paroisse.stjeanbaptiste@orange.fr
END:VEVENT
END:VCALENDAR