BEGIN:VCALENDAR
VERSION:2.0
PRODID:-//Ensemble Paroissial de Bagnols-sur-C&egrave;ze - ECPv6.15.20//NONSGML v1.0//EN
CALSCALE:GREGORIAN
METHOD:PUBLISH
X-WR-CALNAME:Ensemble Paroissial de Bagnols-sur-C&egrave;ze
X-ORIGINAL-URL:https://cathobagnols.fr
X-WR-CALDESC:Évènements pour Ensemble Paroissial de Bagnols-sur-C&egrave;ze
REFRESH-INTERVAL;VALUE=DURATION:PT1H
X-Robots-Tag:noindex
X-PUBLISHED-TTL:PT1H
BEGIN:VTIMEZONE
TZID:UTC
BEGIN:STANDARD
TZOFFSETFROM:+0000
TZOFFSETTO:+0000
TZNAME:UTC
DTSTART:20250101T000000
END:STANDARD
END:VTIMEZONE
BEGIN:VEVENT
DTSTART;TZID=UTC:20260322T103000
DTEND;TZID=UTC:20260322T120000
DTSTAMP:20260419T165704
CREATED:20260313T090952Z
LAST-MODIFIED:20260313T090952Z
UID:5337-1774175400-1774180800@cathobagnols.fr
SUMMARY:Messe à Bagnols avec étape du 3ème scrutin
DESCRIPTION:Avec étape du 3ème scrutin pour les trois catéchumènes adultes de nos paroisses: Mathilde\, William et Noa. Au cours de la messe\, les fiancés recevront une bénédiction pour l’étape qu’ils sont en train de vivre.
URL:https://cathobagnols.fr/event/messe-a-bagnols-avec-etape-du-3eme-scrutin/
LOCATION:Eglise Saint Jean-Baptiste\, 6 Pl. Saint-Jean 4\,\, Bagnols-sur-Cèze\, france\, 30200
ORGANIZER;CN="Ensemble Paroissial de Bagnols sur C%C3%A8ze":MAILTO:paroisse.stjeanbaptiste@orange.fr
END:VEVENT
BEGIN:VEVENT
DTSTART;TZID=UTC:20260322T103000
DTEND;TZID=UTC:20260322T120000
DTSTAMP:20260419T165704
CREATED:20260320T082657Z
LAST-MODIFIED:20260320T082657Z
UID:5346-1774175400-1774180800@cathobagnols.fr
SUMMARY:Messe à St Etienne des Sorts.
DESCRIPTION:Au cours de la messe\, les fiancés recevront une bénédiction pour l’étape qu’ils sont en train de vivre.
URL:https://cathobagnols.fr/event/messe-a-st-etienne-des-sorts/
LOCATION:Eglise de Saint Etienne des Sorts\, 87 avenue du mistral\, Saint Etienne des Sorts\, 30200\, France
ORGANIZER;CN="Ensemble Paroissial de Bagnols sur C%C3%A8ze":MAILTO:paroisse.stjeanbaptiste@orange.fr
END:VEVENT
BEGIN:VEVENT
DTSTART;TZID=UTC:20260322T121500
DTEND;TZID=UTC:20260322T163000
DTSTAMP:20260419T165704
CREATED:20260313T091412Z
LAST-MODIFIED:20260313T091412Z
UID:5339-1774181700-1774197000@cathobagnols.fr
SUMMARY:Rencontre des fiancés
DESCRIPTION:rencontre autour d’un repas canadien et d’une réflexion sur le mystère du Sacrement de mariage
URL:https://cathobagnols.fr/event/rencontre-des-fiances/
LOCATION:Espace Saint Jean XXIII\, chapelle de l'ancyse\, BAGNOLS SUR CEZE\, 30200\, France
ORGANIZER;CN="Ensemble Paroissial de Bagnols sur C%C3%A8ze":MAILTO:paroisse.stjeanbaptiste@orange.fr
END:VEVENT
END:VCALENDAR