BEGIN:VCALENDAR
VERSION:2.0
PRODID:-//Ensemble Paroissial de Bagnols-sur-C&egrave;ze - ECPv6.15.20//NONSGML v1.0//EN
CALSCALE:GREGORIAN
METHOD:PUBLISH
X-ORIGINAL-URL:https://cathobagnols.fr
X-WR-CALDESC:Évènements pour Ensemble Paroissial de Bagnols-sur-C&egrave;ze
REFRESH-INTERVAL;VALUE=DURATION:PT1H
X-Robots-Tag:noindex
X-PUBLISHED-TTL:PT1H
BEGIN:VTIMEZONE
TZID:UTC
BEGIN:STANDARD
TZOFFSETFROM:+0000
TZOFFSETTO:+0000
TZNAME:UTC
DTSTART:20250101T000000
END:STANDARD
END:VTIMEZONE
BEGIN:VEVENT
DTSTART;TZID=UTC:20260313T100000
DTEND;TZID=UTC:20260313T120000
DTSTAMP:20260421T091506
CREATED:20260306T161616Z
LAST-MODIFIED:20260306T161616Z
UID:5307-1773396000-1773403200@cathobagnols.fr
SUMMARY:Rencontre des équipes DENIER du Doyenné avec l’économat diocésain
DESCRIPTION:
URL:https://cathobagnols.fr/event/rencontre-des-equipes-denier-du-doyenne-avec-leconomat-diocesain/
LOCATION:Espace Saint Jean XXIII\, chapelle de l'ancyse\, BAGNOLS SUR CEZE\, 30200\, France
END:VEVENT
BEGIN:VEVENT
DTSTART;TZID=UTC:20260313T121500
DTEND;TZID=UTC:20260313T124500
DTSTAMP:20260421T091506
CREATED:20260209T175740Z
LAST-MODIFIED:20260209T175740Z
UID:5219-1773404100-1773405900@cathobagnols.fr
SUMMARY:Prière du vendredi de Carême à Chusclan
DESCRIPTION:
URL:https://cathobagnols.fr/event/priere-du-vendredi-de-careme-a-chusclan-5/
LOCATION:Église de Chusclan
END:VEVENT
BEGIN:VEVENT
DTSTART;TZID=UTC:20260313T180000
DTEND;TZID=UTC:20260313T213000
DTSTAMP:20260421T091506
CREATED:20250607T111602Z
LAST-MODIFIED:20250621T143951Z
UID:4191-1773424800-1773437400@cathobagnols.fr
SUMMARY:Soirée aumonerie collèges et lycées
DESCRIPTION:6°-5° : 18h\n4°-3° & Lycéens : 19h
URL:https://cathobagnols.fr/event/soiree-aumonerie-colleges-et-lycees-12/
LOCATION:Espace Saint Jean XXIII\, chapelle de l'ancyse\, BAGNOLS SUR CEZE\, 30200\, France
END:VEVENT
END:VCALENDAR