BEGIN:VCALENDAR
VERSION:2.0
PRODID:-//Ensemble Paroissial de Bagnols-sur-C&egrave;ze - ECPv6.15.20//NONSGML v1.0//EN
CALSCALE:GREGORIAN
METHOD:PUBLISH
X-ORIGINAL-URL:https://cathobagnols.fr
X-WR-CALDESC:Évènements pour Ensemble Paroissial de Bagnols-sur-C&egrave;ze
REFRESH-INTERVAL;VALUE=DURATION:PT1H
X-Robots-Tag:noindex
X-PUBLISHED-TTL:PT1H
BEGIN:VTIMEZONE
TZID:UTC
BEGIN:STANDARD
TZOFFSETFROM:+0000
TZOFFSETTO:+0000
TZNAME:UTC
DTSTART:20250101T000000
END:STANDARD
END:VTIMEZONE
BEGIN:VEVENT
DTSTART;TZID=UTC:20260220T121500
DTEND;TZID=UTC:20260220T124500
DTSTAMP:20260419T214246
CREATED:20260209T174944Z
LAST-MODIFIED:20260209T174944Z
UID:5210-1771589700-1771591500@cathobagnols.fr
SUMMARY:Prière du vendredi de Carême à Chusclan
DESCRIPTION:
URL:https://cathobagnols.fr/event/priere-du-vendredi-de-careme-a-chusclan/
LOCATION:Église de Chusclan
END:VEVENT
BEGIN:VEVENT
DTSTART;TZID=UTC:20260220T180000
DTEND;TZID=UTC:20260220T213000
DTSTAMP:20260419T214246
CREATED:20250607T111434Z
LAST-MODIFIED:20250621T143835Z
UID:4189-1771610400-1771623000@cathobagnols.fr
SUMMARY:Soirée aumonerie collèges et lycées
DESCRIPTION:6°-5° : 18h\n4°-3° & Lycéens : 19h
URL:https://cathobagnols.fr/event/soiree-aumonerie-colleges-et-lycees-11/
LOCATION:Espace Saint Jean XXIII\, chapelle de l'ancyse\, BAGNOLS SUR CEZE\, 30200\, France
END:VEVENT
BEGIN:VEVENT
DTSTART;TZID=UTC:20260220T200000
DTEND;TZID=UTC:20260220T220000
DTSTAMP:20260419T214246
CREATED:20260215T083211Z
LAST-MODIFIED:20260215T083211Z
UID:5243-1771617600-1771624800@cathobagnols.fr
SUMMARY:Ancise\, 4ème rencontre des fiancés pour la préparation au mariage.
DESCRIPTION:
URL:https://cathobagnols.fr/event/ancise-4eme-rencontre-des-fiances-pour-la-preparation-au-mariage/
LOCATION:Espace Saint Jean XXIII\, chapelle de l'ancyse\, BAGNOLS SUR CEZE\, 30200\, France
ORGANIZER;CN="Ensemble Paroissial de Bagnols sur C%C3%A8ze":MAILTO:paroisse.stjeanbaptiste@orange.fr
END:VEVENT
END:VCALENDAR