BEGIN:VCALENDAR
VERSION:2.0
PRODID:-//Ensemble Paroissial de Bagnols-sur-C&egrave;ze - ECPv6.15.20//NONSGML v1.0//EN
CALSCALE:GREGORIAN
METHOD:PUBLISH
X-WR-CALNAME:Ensemble Paroissial de Bagnols-sur-C&egrave;ze
X-ORIGINAL-URL:https://cathobagnols.fr
X-WR-CALDESC:Évènements pour Ensemble Paroissial de Bagnols-sur-C&egrave;ze
REFRESH-INTERVAL;VALUE=DURATION:PT1H
X-Robots-Tag:noindex
X-PUBLISHED-TTL:PT1H
BEGIN:VTIMEZONE
TZID:UTC
BEGIN:STANDARD
TZOFFSETFROM:+0000
TZOFFSETTO:+0000
TZNAME:UTC
DTSTART:20250101T000000
END:STANDARD
END:VTIMEZONE
BEGIN:VEVENT
DTSTART;TZID=UTC:20260219T080000
DTEND;TZID=UTC:20260219T090000
DTSTAMP:20260421T104403
CREATED:20260215T082839Z
LAST-MODIFIED:20260215T082839Z
UID:5239-1771488000-1771491600@cathobagnols.fr
SUMMARY:Prière sur la cour à l’école Ste Marie
DESCRIPTION:
URL:https://cathobagnols.fr/event/priere-sur-la-cour-a-lecole-ste-marie/
LOCATION:école Ste Marie\, 1 rue du 19 mars 1962\, Bagnols sur Cèze\, 30200\, France
ORGANIZER;CN="Ensemble Paroissial de Bagnols sur C%C3%A8ze":MAILTO:paroisse.stjeanbaptiste@orange.fr
END:VEVENT
BEGIN:VEVENT
DTSTART;TZID=UTC:20260219T200000
DTEND;TZID=UTC:20260219T220000
DTSTAMP:20260421T104403
CREATED:20260215T082945Z
LAST-MODIFIED:20260215T082945Z
UID:5241-1771531200-1771538400@cathobagnols.fr
SUMMARY:Bible B.A.BA
DESCRIPTION:Bible B.A.BA\, venez découvrir les grandes figures bibliques
URL:https://cathobagnols.fr/event/bible-b-a-ba/
LOCATION:Espace Saint Jean XXIII\, chapelle de l'ancyse\, BAGNOLS SUR CEZE\, 30200\, France
ORGANIZER;CN="Ensemble Paroissial de Bagnols sur C%C3%A8ze":MAILTO:paroisse.stjeanbaptiste@orange.fr
END:VEVENT
END:VCALENDAR