BEGIN:VCALENDAR
VERSION:2.0
PRODID:-//Ensemble Paroissial de Bagnols-sur-C&egrave;ze - ECPv6.15.20//NONSGML v1.0//EN
CALSCALE:GREGORIAN
METHOD:PUBLISH
X-WR-CALNAME:Ensemble Paroissial de Bagnols-sur-C&egrave;ze
X-ORIGINAL-URL:https://cathobagnols.fr
X-WR-CALDESC:Évènements pour Ensemble Paroissial de Bagnols-sur-C&egrave;ze
REFRESH-INTERVAL;VALUE=DURATION:PT1H
X-Robots-Tag:noindex
X-PUBLISHED-TTL:PT1H
BEGIN:VTIMEZONE
TZID:UTC
BEGIN:STANDARD
TZOFFSETFROM:+0000
TZOFFSETTO:+0000
TZNAME:UTC
DTSTART:20250101T000000
END:STANDARD
END:VTIMEZONE
BEGIN:VEVENT
DTSTART;TZID=UTC:20260218T090000
DTEND;TZID=UTC:20260218T170000
DTSTAMP:20260421T104402
CREATED:20260215T082331Z
LAST-MODIFIED:20260215T082331Z
UID:5233-1771405200-1771434000@cathobagnols.fr
SUMMARY:Mercredi des Cendres\, entrée en Carême
DESCRIPTION:Mercredi des Cendres\, entrée en Carême \nimposition des Cendres à toutes les messes
URL:https://cathobagnols.fr/event/mercredi-des-cendres-entree-en-careme/
LOCATION:Espace Saint Jean XXIII\, chapelle de l'ancyse\, BAGNOLS SUR CEZE\, 30200\, France
ORGANIZER;CN="Ensemble Paroissial de Bagnols sur C%C3%A8ze":MAILTO:paroisse.stjeanbaptiste@orange.fr
END:VEVENT
BEGIN:VEVENT
DTSTART;TZID=UTC:20260218T093000
DTEND;TZID=UTC:20260218T103000
DTSTAMP:20260421T104402
CREATED:20260215T082519Z
LAST-MODIFIED:20260215T082519Z
UID:5235-1771407000-1771410600@cathobagnols.fr
SUMMARY:Mercredi des Cendres à Connaux
DESCRIPTION:
URL:https://cathobagnols.fr/event/mercredi-des-cendres-a-connaux/
LOCATION:Eglise de Connaux\, Eglise Saint Benoit\, Pl. de l'Église\, 30330 Connaux\, Connaux\, occitanie\, 30200\, France
ORGANIZER;CN="Ensemble Paroissial de Bagnols sur C%C3%A8ze":MAILTO:paroisse.stjeanbaptiste@orange.fr
END:VEVENT
BEGIN:VEVENT
DTSTART;TZID=UTC:20260218T183000
DTEND;TZID=UTC:20260218T193000
DTSTAMP:20260421T104402
CREATED:20260215T082659Z
LAST-MODIFIED:20260215T082659Z
UID:5237-1771439400-1771443000@cathobagnols.fr
SUMMARY:Mercredi des Cendres à Saint Jean-Baptiste
DESCRIPTION:Mercredi des Cendres\, entrée en Carême \nimposition des Cendres à toutes les messes
URL:https://cathobagnols.fr/event/mercredi-des-cendres-a-saint-jean-baptiste/
LOCATION:Eglise Saint Jean-Baptiste\, 6 Pl. Saint-Jean 4\,\, Bagnols-sur-Cèze\, france\, 30200
ORGANIZER;CN="Ensemble Paroissial de Bagnols sur C%C3%A8ze":MAILTO:paroisse.stjeanbaptiste@orange.fr
END:VEVENT
END:VCALENDAR