BEGIN:VCALENDAR
VERSION:2.0
PRODID:-//Ensemble Paroissial de Bagnols-sur-C&egrave;ze - ECPv6.15.20//NONSGML v1.0//EN
CALSCALE:GREGORIAN
METHOD:PUBLISH
X-WR-CALNAME:Ensemble Paroissial de Bagnols-sur-C&egrave;ze
X-ORIGINAL-URL:https://cathobagnols.fr
X-WR-CALDESC:Évènements pour Ensemble Paroissial de Bagnols-sur-C&egrave;ze
REFRESH-INTERVAL;VALUE=DURATION:PT1H
X-Robots-Tag:noindex
X-PUBLISHED-TTL:PT1H
BEGIN:VTIMEZONE
TZID:UTC
BEGIN:STANDARD
TZOFFSETFROM:+0000
TZOFFSETTO:+0000
TZNAME:UTC
DTSTART:20250101T000000
END:STANDARD
END:VTIMEZONE
BEGIN:VEVENT
DTSTART;TZID=UTC:20260215T103000
DTEND;TZID=UTC:20260215T113000
DTSTAMP:20260419T200639
CREATED:20260206T090804Z
LAST-MODIFIED:20260206T090804Z
UID:5200-1771151400-1771155000@cathobagnols.fr
SUMMARY:Pas de messe dans les villages
DESCRIPTION:
URL:https://cathobagnols.fr/event/pas-de-messe-dans-les-villages/
ORGANIZER;CN="Ensemble Paroissial de Bagnols sur C%C3%A8ze":MAILTO:paroisse.stjeanbaptiste@orange.fr
END:VEVENT
BEGIN:VEVENT
DTSTART;TZID=UTC:20260215T133000
DTEND;TZID=UTC:20260215T200000
DTSTAMP:20260419T200639
CREATED:20260112T173345Z
LAST-MODIFIED:20260112T173345Z
UID:5122-1771162200-1771185600@cathobagnols.fr
SUMMARY:Après-midi fraternel
DESCRIPTION:Pôle solidarité-fraternité
URL:https://cathobagnols.fr/event/apres-midi-fraternel/
LOCATION:Espace Saint Jean XXIII\, chapelle de l'ancyse\, BAGNOLS SUR CEZE\, 30200\, France
END:VEVENT
END:VCALENDAR