BEGIN:VCALENDAR
VERSION:2.0
PRODID:-//Ensemble Paroissial de Bagnols-sur-C&egrave;ze - ECPv6.15.20//NONSGML v1.0//EN
CALSCALE:GREGORIAN
METHOD:PUBLISH
X-WR-CALNAME:Ensemble Paroissial de Bagnols-sur-C&egrave;ze
X-ORIGINAL-URL:https://cathobagnols.fr
X-WR-CALDESC:Évènements pour Ensemble Paroissial de Bagnols-sur-C&egrave;ze
REFRESH-INTERVAL;VALUE=DURATION:PT1H
X-Robots-Tag:noindex
X-PUBLISHED-TTL:PT1H
BEGIN:VTIMEZONE
TZID:UTC
BEGIN:STANDARD
TZOFFSETFROM:+0000
TZOFFSETTO:+0000
TZNAME:UTC
DTSTART:20250101T000000
END:STANDARD
END:VTIMEZONE
BEGIN:VEVENT
DTSTART;TZID=UTC:20260213T140000
DTEND;TZID=UTC:20260213T150000
DTSTAMP:20260419T213213
CREATED:20260206T090627Z
LAST-MODIFIED:20260206T090627Z
UID:5198-1770991200-1770994800@cathobagnols.fr
SUMMARY:Messe à l’EHPAD des 7 sources
DESCRIPTION:
URL:https://cathobagnols.fr/event/messe-a-lehpad-des-7-sources-12/
LOCATION:EHPAD des 7 sources\, 5 Rue Jacqueline Bret Andre\, Bagnols-Sur-Cèze.\, 30200\, France
ORGANIZER;CN="Ensemble Paroissial de Bagnols sur C%C3%A8ze":MAILTO:paroisse.stjeanbaptiste@orange.fr
END:VEVENT
BEGIN:VEVENT
DTSTART;TZID=UTC:20260213T193000
DTEND;TZID=UTC:20260213T230000
DTSTAMP:20260419T213213
CREATED:20260116T083345Z
LAST-MODIFIED:20260116T083345Z
UID:5144-1771011000-1771023600@cathobagnols.fr
SUMMARY:Soirée St Valentin Autrement
DESCRIPTION:Soirée St Valentin Autrement\, soirée pour couples\,\nà Toque & Traiteur\, Vénéjan.\nRenseignement et Inscriptions avant le 30 janvier\, auprès de Gilles Francès: 06 47 89 58 70
URL:https://cathobagnols.fr/event/soiree-st-valentin-autrement/
END:VEVENT
END:VCALENDAR