BEGIN:VCALENDAR
VERSION:2.0
PRODID:-//Ensemble Paroissial de Bagnols-sur-C&egrave;ze - ECPv6.15.20//NONSGML v1.0//EN
CALSCALE:GREGORIAN
METHOD:PUBLISH
X-ORIGINAL-URL:https://cathobagnols.fr
X-WR-CALDESC:Évènements pour Ensemble Paroissial de Bagnols-sur-C&egrave;ze
REFRESH-INTERVAL;VALUE=DURATION:PT1H
X-Robots-Tag:noindex
X-PUBLISHED-TTL:PT1H
BEGIN:VTIMEZONE
TZID:UTC
BEGIN:STANDARD
TZOFFSETFROM:+0000
TZOFFSETTO:+0000
TZNAME:UTC
DTSTART:20250101T000000
END:STANDARD
END:VTIMEZONE
BEGIN:VEVENT
DTSTART;TZID=UTC:20260207T100000
DTEND;TZID=UTC:20260207T120000
DTSTAMP:20260421T104653
CREATED:20251123T092850Z
LAST-MODIFIED:20251123T092850Z
UID:4923-1770458400-1770465600@cathobagnols.fr
SUMMARY:Catéchisme Bagnols sur Cèze
DESCRIPTION:
URL:https://cathobagnols.fr/event/catechisme-bagnols-sur-ceze-10/
LOCATION:Espace Saint Jean XXIII\, chapelle de l'ancyse\, BAGNOLS SUR CEZE\, 30200\, France
ORGANIZER;CN="CAMARA Marceline":MAILTO:Marcelinecamara76@gmail.com
END:VEVENT
BEGIN:VEVENT
DTSTART;TZID=UTC:20260207T120000
DTEND;TZID=UTC:20260207T163000
DTSTAMP:20260421T104653
CREATED:20260116T082809Z
LAST-MODIFIED:20260116T082809Z
UID:5140-1770465600-1770481800@cathobagnols.fr
SUMMARY:Choucroute de la paroisse de St Nazaire
DESCRIPTION:Choucroute de la paroisse de St Nazaire à la Bioune.
URL:https://cathobagnols.fr/event/choucroute-de-la-paroisse-de-st-nazaire/
LOCATION:La Bioune\, quartier Bioune\, Saint Nazaire\, 30200\, France
ORGANIZER;CN="Ensemble Paroissial de Bagnols sur C%C3%A8ze":MAILTO:paroisse.stjeanbaptiste@orange.fr
END:VEVENT
BEGIN:VEVENT
DTSTART;TZID=UTC:20260207T150000
DTEND;TZID=UTC:20260207T163000
DTSTAMP:20260421T104653
CREATED:20260116T082959Z
LAST-MODIFIED:20260116T084004Z
UID:5142-1770476400-1770481800@cathobagnols.fr
SUMMARY:Messe des malades
DESCRIPTION:Messe des malades avec sacrement de l’Onction des malades\,\norganisée par les équipes de l’Aumônerie de l’Hôpital\, du Service évangélique des malades et de l’Hospitalité diocésaine.\nLa messe sera suivie d’un goûter convivial.\nExceptionnellement\, pas de messe à 18 heures à l’Ancise.
URL:https://cathobagnols.fr/event/messe-des-malades/
LOCATION:Espace Saint Jean XXIII\, chapelle de l'ancyse\, BAGNOLS SUR CEZE\, 30200\, France
ORGANIZER;CN="Ensemble Paroissial de Bagnols sur C%C3%A8ze":MAILTO:paroisse.stjeanbaptiste@orange.fr
END:VEVENT
BEGIN:VEVENT
DTSTART;TZID=UTC:20260207T190000
DTEND;TZID=UTC:20260207T220000
DTSTAMP:20260421T104653
CREATED:20260130T100548Z
LAST-MODIFIED:20260130T100548Z
UID:5179-1770490800-1770501600@cathobagnols.fr
SUMMARY:Rencontre des Jeunes professionnels
DESCRIPTION:
URL:https://cathobagnols.fr/event/rencontre-des-jeunes-professionnels/
LOCATION:Cave de Béthel
ORGANIZER;CN="Ensemble Paroissial de Bagnols sur C%C3%A8ze":MAILTO:paroisse.stjeanbaptiste@orange.fr
END:VEVENT
END:VCALENDAR