BEGIN:VCALENDAR
VERSION:2.0
PRODID:-//Ensemble Paroissial de Bagnols-sur-C&egrave;ze - ECPv6.15.20//NONSGML v1.0//EN
CALSCALE:GREGORIAN
METHOD:PUBLISH
X-ORIGINAL-URL:https://cathobagnols.fr
X-WR-CALDESC:Évènements pour Ensemble Paroissial de Bagnols-sur-C&egrave;ze
REFRESH-INTERVAL;VALUE=DURATION:PT1H
X-Robots-Tag:noindex
X-PUBLISHED-TTL:PT1H
BEGIN:VTIMEZONE
TZID:UTC
BEGIN:STANDARD
TZOFFSETFROM:+0000
TZOFFSETTO:+0000
TZNAME:UTC
DTSTART:20250101T000000
END:STANDARD
END:VTIMEZONE
BEGIN:VEVENT
DTSTART;TZID=UTC:20260124T090000
DTEND;TZID=UTC:20260124T170000
DTSTAMP:20260421T142545
CREATED:20260123T124339Z
LAST-MODIFIED:20260123T124403Z
UID:5153-1769245200-1769274000@cathobagnols.fr
SUMMARY:Journée diocésaine des catéchumènes
DESCRIPTION:Rencontre avec notre évêque à Nîmes.\nTrois adultes sont en chemin vers le baptême lors de la Vigile pascale et trois autres sont en chemin vers la Confirmation des adultes qui sera célébrée par notre évêque en sa cathédrale de Nîmes le dimanche 17 mai 2026.
URL:https://cathobagnols.fr/event/journee-diocesaine-des-catechumenes/
LOCATION:Maison diocésaine\, 6 rue Salomon Reinach\, Nîmes\, 30000\, France
ORGANIZER;CN="Ensemble Paroissial de Bagnols sur C%C3%A8ze":MAILTO:paroisse.stjeanbaptiste@orange.fr
END:VEVENT
BEGIN:VEVENT
DTSTART;TZID=UTC:20260124T100000
DTEND;TZID=UTC:20260124T120000
DTSTAMP:20260421T142545
CREATED:20251123T092729Z
LAST-MODIFIED:20251123T092729Z
UID:4921-1769248800-1769256000@cathobagnols.fr
SUMMARY:Catéchisme Bagnols sur Cèze
DESCRIPTION:
URL:https://cathobagnols.fr/event/catechisme-bagnols-sur-ceze-9/
LOCATION:Espace Saint Jean XXIII\, chapelle de l'ancyse\, BAGNOLS SUR CEZE\, 30200\, France
ORGANIZER;CN="CAMARA Marceline":MAILTO:Marcelinecamara76@gmail.com
END:VEVENT
BEGIN:VEVENT
DTSTART;TZID=UTC:20260124T191500
DTEND;TZID=UTC:20260124T203000
DTSTAMP:20260421T142545
CREATED:20260116T081947Z
LAST-MODIFIED:20260116T081947Z
UID:5134-1769282100-1769286600@cathobagnols.fr
SUMMARY:Rencontre des Servants de Messe
DESCRIPTION:Rencontre des Servants de Messe\, ”Les Samuels”\, autour de la Galette des Rois.
URL:https://cathobagnols.fr/event/rencontre-des-servants-de-messe/
LOCATION:Espace Saint Jean XXIII\, chapelle de l'ancyse\, BAGNOLS SUR CEZE\, 30200\, France
ORGANIZER;CN="Ensemble Paroissial de Bagnols sur C%C3%A8ze":MAILTO:paroisse.stjeanbaptiste@orange.fr
END:VEVENT
END:VCALENDAR