BEGIN:VCALENDAR
VERSION:2.0
PRODID:-//Ensemble Paroissial de Bagnols-sur-C&egrave;ze - ECPv6.15.20//NONSGML v1.0//EN
CALSCALE:GREGORIAN
METHOD:PUBLISH
X-ORIGINAL-URL:https://cathobagnols.fr
X-WR-CALDESC:Évènements pour Ensemble Paroissial de Bagnols-sur-C&egrave;ze
REFRESH-INTERVAL;VALUE=DURATION:PT1H
X-Robots-Tag:noindex
X-PUBLISHED-TTL:PT1H
BEGIN:VTIMEZONE
TZID:UTC
BEGIN:STANDARD
TZOFFSETFROM:+0000
TZOFFSETTO:+0000
TZNAME:UTC
DTSTART:20250101T000000
END:STANDARD
END:VTIMEZONE
BEGIN:VEVENT
DTSTART;TZID=UTC:20260121T080000
DTEND;TZID=UTC:20260121T170000
DTSTAMP:20260421T141104
CREATED:20260121T100241Z
LAST-MODIFIED:20260121T100241Z
UID:5151-1768982400-1769014800@cathobagnols.fr
SUMMARY:Rencontre de l’équipe Diffusion d’Adventus
DESCRIPTION:
URL:https://cathobagnols.fr/event/rencontre-de-lequipe-diffusion-dadventus/
LOCATION:Presbytère de Saint jean-baptiste\, 4\, rue de la Verrerie\, Bagnols sur cèze\, 30200\, France
ORGANIZER;CN="Ensemble Paroissial de Bagnols sur C%C3%A8ze":MAILTO:paroisse.stjeanbaptiste@orange.fr
END:VEVENT
BEGIN:VEVENT
DTSTART;TZID=UTC:20260121T153000
DTEND;TZID=UTC:20260121T173000
DTSTAMP:20260421T141104
CREATED:20260116T081348Z
LAST-MODIFIED:20260116T081348Z
UID:5130-1769009400-1769016600@cathobagnols.fr
SUMMARY:Rencontre des Amies de Sainte Jeanne Antide.
DESCRIPTION:
URL:https://cathobagnols.fr/event/rencontre-des-amies-de-sainte-jeanne-antide-3/
LOCATION:Espace Saint Jean XXIII\, chapelle de l'ancyse\, BAGNOLS SUR CEZE\, 30200\, France
END:VEVENT
BEGIN:VEVENT
DTSTART;TZID=UTC:20260121T183000
DTEND;TZID=UTC:20260121T200000
DTSTAMP:20260421T141104
CREATED:20260116T081558Z
LAST-MODIFIED:20260116T081558Z
UID:5132-1769020200-1769025600@cathobagnols.fr
SUMMARY:Rencontre des Catéchumènes et Recommençants
DESCRIPTION:
URL:https://cathobagnols.fr/event/rencontre-des-catechumenes-et-recommencants/
LOCATION:Espace Saint Jean XXIII\, chapelle de l'ancyse\, BAGNOLS SUR CEZE\, 30200\, France
ORGANIZER;CN="Ensemble Paroissial de Bagnols sur C%C3%A8ze":MAILTO:paroisse.stjeanbaptiste@orange.fr
END:VEVENT
END:VCALENDAR