BEGIN:VCALENDAR
VERSION:2.0
PRODID:-//Ensemble Paroissial de Bagnols-sur-C&egrave;ze - ECPv6.15.20//NONSGML v1.0//EN
CALSCALE:GREGORIAN
METHOD:PUBLISH
X-ORIGINAL-URL:https://cathobagnols.fr
X-WR-CALDESC:Évènements pour Ensemble Paroissial de Bagnols-sur-C&egrave;ze
REFRESH-INTERVAL;VALUE=DURATION:PT1H
X-Robots-Tag:noindex
X-PUBLISHED-TTL:PT1H
BEGIN:VTIMEZONE
TZID:UTC
BEGIN:STANDARD
TZOFFSETFROM:+0000
TZOFFSETTO:+0000
TZNAME:UTC
DTSTART:20250101T000000
END:STANDARD
END:VTIMEZONE
BEGIN:VEVENT
DTSTART;TZID=UTC:20260118T103000
DTEND;TZID=UTC:20260118T120000
DTSTAMP:20260421T142536
CREATED:20250621T143022Z
LAST-MODIFIED:20260116T080707Z
UID:4356-1768732200-1768737600@cathobagnols.fr
SUMMARY:Confirmation Aumonerie
DESCRIPTION:Messe de Confirmation de 8 jeunes présidée par Mgr Bernard Ginoux.
URL:https://cathobagnols.fr/event/confirmation-aumonerie/
LOCATION:Eglise Saint Jean-Baptiste\, 6 Pl. Saint-Jean 4\,\, Bagnols-sur-Cèze\, france\, 30200
ORGANIZER;CN="Ensemble Paroissial de Bagnols sur C%C3%A8ze":MAILTO:paroisse.stjeanbaptiste@orange.fr
END:VEVENT
BEGIN:VEVENT
DTSTART;TZID=UTC:20260118T103000
DTEND;TZID=UTC:20260118T120000
DTSTAMP:20260421T142536
CREATED:20260109T083104Z
LAST-MODIFIED:20260116T080818Z
UID:5109-1768732200-1768737600@cathobagnols.fr
SUMMARY:Messe des vignerons à Combes
DESCRIPTION:messe des vignerons\, fête de la St Vincent\, présidée par le P. André Chapus.\navec la participation de la Confrérie des Côtes du Rhône Gardoise.
URL:https://cathobagnols.fr/event/messe-des-vignerons-a-combes/
LOCATION:Eglise de Combe\, Combe\, 30200\, France
ORGANIZER;CN="Ensemble Paroissial de Bagnols sur C%C3%A8ze":MAILTO:paroisse.stjeanbaptiste@orange.fr
END:VEVENT
BEGIN:VEVENT
DTSTART;TZID=UTC:20260118T140000
DTEND;TZID=UTC:20260118T193000
DTSTAMP:20260421T142536
CREATED:20250609T151216Z
LAST-MODIFIED:20251227T174328Z
UID:4209-1768744800-1768764600@cathobagnols.fr
SUMMARY:Préparation de la Communion et du baptême des enfants en âge scolaire
DESCRIPTION:
URL:https://cathobagnols.fr/event/reunion-pour-les-baptemes-des-enfants-en-age-scolaire-3/
LOCATION:Espace Saint Jean XXIII\, chapelle de l'ancyse\, BAGNOLS SUR CEZE\, 30200\, France
END:VEVENT
BEGIN:VEVENT
DTSTART;TZID=UTC:20260118T170000
DTEND;TZID=UTC:20260118T180000
DTSTAMP:20260421T142536
CREATED:20251006T094920Z
LAST-MODIFIED:20251006T094920Z
UID:4714-1768755600-1768759200@cathobagnols.fr
SUMMARY:Messe en famille
DESCRIPTION:
URL:https://cathobagnols.fr/event/messe-en-famille-12/
LOCATION:Espace Saint Jean XXIII\, chapelle de l'ancyse\, BAGNOLS SUR CEZE\, 30200\, France
END:VEVENT
END:VCALENDAR