BEGIN:VCALENDAR
VERSION:2.0
PRODID:-//Ensemble Paroissial de Bagnols-sur-C&egrave;ze - ECPv6.15.20//NONSGML v1.0//EN
CALSCALE:GREGORIAN
METHOD:PUBLISH
X-ORIGINAL-URL:https://cathobagnols.fr
X-WR-CALDESC:Évènements pour Ensemble Paroissial de Bagnols-sur-C&egrave;ze
REFRESH-INTERVAL;VALUE=DURATION:PT1H
X-Robots-Tag:noindex
X-PUBLISHED-TTL:PT1H
BEGIN:VTIMEZONE
TZID:UTC
BEGIN:STANDARD
TZOFFSETFROM:+0000
TZOFFSETTO:+0000
TZNAME:UTC
DTSTART:20250101T000000
END:STANDARD
END:VTIMEZONE
BEGIN:VEVENT
DTSTART;TZID=UTC:20260113T150000
DTEND;TZID=UTC:20260113T160000
DTSTAMP:20260421T141319
CREATED:20260109T081418Z
LAST-MODIFIED:20260109T081418Z
UID:5096-1768316400-1768320000@cathobagnols.fr
SUMMARY:Messe à l’EHPAD St Emétery
DESCRIPTION:les paroissiens sont les bienvenus
URL:https://cathobagnols.fr/event/messe-a-lehpad-st-emetery-2/
LOCATION:St Emetery\, 61 chemin Horts\, Chusclan\, 30200\, France
ORGANIZER;CN="Ensemble Paroissial de Bagnols sur C%C3%A8ze":MAILTO:paroisse.stjeanbaptiste@orange.fr
END:VEVENT
BEGIN:VEVENT
DTSTART;TZID=UTC:20260113T150000
DTEND;TZID=UTC:20260113T170000
DTSTAMP:20260421T141319
CREATED:20260109T081631Z
LAST-MODIFIED:20260109T081631Z
UID:5098-1768316400-1768323600@cathobagnols.fr
SUMMARY:Rencontre biblique
DESCRIPTION:rencontre biblique animée par Jean-François Doucet\nlecture de 1 Corinthiens 15 : ”le message au cœur de la foi chrétienne.”
URL:https://cathobagnols.fr/event/rencontre-biblique-3/
LOCATION:Espace Saint Jean XXIII\, chapelle de l'ancyse\, BAGNOLS SUR CEZE\, 30200\, France
ORGANIZER;CN="Jean-Fran%C3%A7ois Doucet":MAILTO:Jefba30200@outlook.fr
END:VEVENT
BEGIN:VEVENT
DTSTART;TZID=UTC:20260113T200000
DTEND;TZID=UTC:20260113T220000
DTSTAMP:20260421T141319
CREATED:20250624T193043Z
LAST-MODIFIED:20260109T081809Z
UID:4399-1768334400-1768341600@cathobagnols.fr
SUMMARY:Réunion bible et questions de foi
DESCRIPTION:découverte de la Terre Sainte\, témoignage de Philippe Caze de retour de son pèlerinage avec le diocèse.
URL:https://cathobagnols.fr/event/reunion-bible-et-questions-de-foi-5/
LOCATION:Espace Saint Jean XXIII\, chapelle de l'ancyse\, BAGNOLS SUR CEZE\, 30200\, France
ORGANIZER;CN="Ensemble Paroissial de Bagnols sur C%C3%A8ze":MAILTO:paroisse.stjeanbaptiste@orange.fr
END:VEVENT
END:VCALENDAR