BEGIN:VCALENDAR
VERSION:2.0
PRODID:-//Ensemble Paroissial de Bagnols-sur-C&egrave;ze - ECPv6.15.20//NONSGML v1.0//EN
CALSCALE:GREGORIAN
METHOD:PUBLISH
X-ORIGINAL-URL:https://cathobagnols.fr
X-WR-CALDESC:Évènements pour Ensemble Paroissial de Bagnols-sur-C&egrave;ze
REFRESH-INTERVAL;VALUE=DURATION:PT1H
X-Robots-Tag:noindex
X-PUBLISHED-TTL:PT1H
BEGIN:VTIMEZONE
TZID:UTC
BEGIN:STANDARD
TZOFFSETFROM:+0000
TZOFFSETTO:+0000
TZNAME:UTC
DTSTART:20250101T000000
END:STANDARD
END:VTIMEZONE
BEGIN:VEVENT
DTSTART;TZID=UTC:20260110T100000
DTEND;TZID=UTC:20260110T120000
DTSTAMP:20260425T103433
CREATED:20251123T092602Z
LAST-MODIFIED:20251123T092602Z
UID:4919-1768039200-1768046400@cathobagnols.fr
SUMMARY:Catéchisme Bagnols sur Cèze
DESCRIPTION:
URL:https://cathobagnols.fr/event/catechisme-bagnols-sur-ceze-8/
LOCATION:Espace Saint Jean XXIII\, chapelle de l'ancyse\, BAGNOLS SUR CEZE\, 30200\, France
ORGANIZER;CN="CAMARA Marceline":MAILTO:Marcelinecamara76@gmail.com
END:VEVENT
BEGIN:VEVENT
DTSTART;TZID=UTC:20260110T100000
DTEND;TZID=UTC:20260110T170000
DTSTAMP:20260425T103433
CREATED:20250914T190301Z
LAST-MODIFIED:20260102T185921Z
UID:4611-1768039200-1768064400@cathobagnols.fr
SUMMARY:Repas de l’Hospitalité diocésaine St Jean Paul II
DESCRIPTION:
URL:https://cathobagnols.fr/event/repas-des-malades/
LOCATION:Espace Saint Jean XXIII\, chapelle de l'ancyse\, BAGNOLS SUR CEZE\, 30200\, France
END:VEVENT
BEGIN:VEVENT
DTSTART;TZID=UTC:20260110T190000
DTEND;TZID=UTC:20260110T220000
DTSTAMP:20260425T103433
CREATED:20260102T190216Z
LAST-MODIFIED:20260102T190216Z
UID:5085-1768071600-1768082400@cathobagnols.fr
SUMMARY:Rencontre des Jeunes étudiants et professionnels
DESCRIPTION:
URL:https://cathobagnols.fr/event/rencontre-des-jeunes-etudiants-et-professionnels/
LOCATION:Espace Saint Jean XXIII\, chapelle de l'ancyse\, BAGNOLS SUR CEZE\, 30200\, France
END:VEVENT
END:VCALENDAR