BEGIN:VCALENDAR
VERSION:2.0
PRODID:-//Ensemble Paroissial de Bagnols-sur-C&egrave;ze - ECPv6.15.20//NONSGML v1.0//EN
CALSCALE:GREGORIAN
METHOD:PUBLISH
X-ORIGINAL-URL:https://cathobagnols.fr
X-WR-CALDESC:Évènements pour Ensemble Paroissial de Bagnols-sur-C&egrave;ze
REFRESH-INTERVAL;VALUE=DURATION:PT1H
X-Robots-Tag:noindex
X-PUBLISHED-TTL:PT1H
BEGIN:VTIMEZONE
TZID:UTC
BEGIN:STANDARD
TZOFFSETFROM:+0000
TZOFFSETTO:+0000
TZNAME:UTC
DTSTART:20250101T000000
END:STANDARD
END:VTIMEZONE
BEGIN:VEVENT
DTSTART;TZID=UTC:20260107T140000
DTEND;TZID=UTC:20260107T163000
DTSTAMP:20260425T103438
CREATED:20250703T090923Z
LAST-MODIFIED:20260102T185659Z
UID:4463-1767794400-1767803400@cathobagnols.fr
SUMMARY:Réunion des rédacteurs d'Adventus
DESCRIPTION:
URL:https://cathobagnols.fr/event/reunion-des-redacteurs-dadventus/
LOCATION:Presbytère de Saint jean-baptiste\, 4\, rue de la Verrerie\, Bagnols sur cèze\, 30200\, France
ORGANIZER;CN="Ensemble Paroissial de Bagnols sur C%C3%A8ze":MAILTO:paroisse.stjeanbaptiste@orange.fr
END:VEVENT
END:VCALENDAR