BEGIN:VCALENDAR
VERSION:2.0
PRODID:-//Ensemble Paroissial de Bagnols-sur-C&egrave;ze - ECPv6.15.20//NONSGML v1.0//EN
CALSCALE:GREGORIAN
METHOD:PUBLISH
X-WR-CALNAME:Ensemble Paroissial de Bagnols-sur-C&egrave;ze
X-ORIGINAL-URL:https://cathobagnols.fr
X-WR-CALDESC:Évènements pour Ensemble Paroissial de Bagnols-sur-C&egrave;ze
REFRESH-INTERVAL;VALUE=DURATION:PT1H
X-Robots-Tag:noindex
X-PUBLISHED-TTL:PT1H
BEGIN:VTIMEZONE
TZID:UTC
BEGIN:STANDARD
TZOFFSETFROM:+0000
TZOFFSETTO:+0000
TZNAME:UTC
DTSTART:20240101T000000
END:STANDARD
END:VTIMEZONE
BEGIN:VEVENT
DTSTART;TZID=UTC:20251225T103000
DTEND;TZID=UTC:20251225T113000
DTSTAMP:20260425T133503
CREATED:20251219T084532Z
LAST-MODIFIED:20251219T084545Z
UID:5052-1766658600-1766662200@cathobagnols.fr
SUMMARY:Messe du jour de Noël à Bagnols
DESCRIPTION:
URL:https://cathobagnols.fr/event/messe-du-jour-de-noel-a-bagnols/
LOCATION:Eglise Saint Jean-Baptiste\, 6 Pl. Saint-Jean 4\,\, Bagnols-sur-Cèze\, france\, 30200
ORGANIZER;CN="Ensemble Paroissial de Bagnols sur C%C3%A8ze":MAILTO:paroisse.stjeanbaptiste@orange.fr
END:VEVENT
BEGIN:VEVENT
DTSTART;TZID=UTC:20251225T103000
DTEND;TZID=UTC:20251225T113000
DTSTAMP:20260425T133503
CREATED:20251219T084648Z
LAST-MODIFIED:20251219T084648Z
UID:5054-1766658600-1766662200@cathobagnols.fr
SUMMARY:Messe du jour de Noël à St Étienne des Sorts
DESCRIPTION:
URL:https://cathobagnols.fr/event/messe-du-jour-de-noel-a-st-etienne-des-sorts/
LOCATION:Eglise de Saint Etienne des Sorts\, 87 avenue du mistral\, Saint Etienne des Sorts\, 30200\, France
ORGANIZER;CN="Ensemble Paroissial de Bagnols sur C%C3%A8ze":MAILTO:paroisse.stjeanbaptiste@orange.fr
END:VEVENT
BEGIN:VEVENT
DTSTART;TZID=UTC:20251225T120000
DTEND;TZID=UTC:20251225T183000
DTSTAMP:20260425T133503
CREATED:20251128T094842Z
LAST-MODIFIED:20251128T094842Z
UID:4967-1766664000-1766687400@cathobagnols.fr
SUMMARY:Repas de NOËL
DESCRIPTION:le Pôle Solidarité-Fraternité invite\, à midi\, à l’Ancise\, pour le repas du jour de Noël\, les personnes familialement isolées.  \nS’inscrire avant le 20 décembre\, à l’Accueil du presbytère (04.66.89.61.97)\, ou auprès de Maïthé Vire (06.17.43.54.46).
URL:https://cathobagnols.fr/event/repas-de-noel/
LOCATION:Espace Saint Jean XXIII\, chapelle de l'ancyse\, BAGNOLS SUR CEZE\, 30200\, France
END:VEVENT
END:VCALENDAR