BEGIN:VCALENDAR
VERSION:2.0
PRODID:-//Ensemble Paroissial de Bagnols-sur-C&egrave;ze - ECPv6.15.20//NONSGML v1.0//EN
CALSCALE:GREGORIAN
METHOD:PUBLISH
X-WR-CALNAME:Ensemble Paroissial de Bagnols-sur-C&egrave;ze
X-ORIGINAL-URL:https://cathobagnols.fr
X-WR-CALDESC:Évènements pour Ensemble Paroissial de Bagnols-sur-C&egrave;ze
REFRESH-INTERVAL;VALUE=DURATION:PT1H
X-Robots-Tag:noindex
X-PUBLISHED-TTL:PT1H
BEGIN:VTIMEZONE
TZID:UTC
BEGIN:STANDARD
TZOFFSETFROM:+0000
TZOFFSETTO:+0000
TZNAME:UTC
DTSTART:20240101T000000
END:STANDARD
END:VTIMEZONE
BEGIN:VEVENT
DTSTART;TZID=UTC:20251217T093000
DTEND;TZID=UTC:20251217T103000
DTSTAMP:20260425T120440
CREATED:20251205T140642Z
LAST-MODIFIED:20251205T140642Z
UID:4997-1765963800-1765967400@cathobagnols.fr
SUMMARY:Confessions avant Noël à Bagnols
DESCRIPTION:
URL:https://cathobagnols.fr/event/confessions-avant-noel-a-bagnols/
LOCATION:Eglise Saint Jean-Baptiste\, 6 Pl. Saint-Jean 4\,\, Bagnols-sur-Cèze\, france\, 30200
ORGANIZER;CN="Ensemble Paroissial de Bagnols sur C%C3%A8ze":MAILTO:paroisse.stjeanbaptiste@orange.fr
END:VEVENT
BEGIN:VEVENT
DTSTART;TZID=UTC:20251217T100000
DTEND;TZID=UTC:20251217T110000
DTSTAMP:20260425T120440
CREATED:20251205T140810Z
LAST-MODIFIED:20251205T140810Z
UID:4999-1765965600-1765969200@cathobagnols.fr
SUMMARY:Confessions avant Noël à Connaux
DESCRIPTION:
URL:https://cathobagnols.fr/event/confessions-avant-noel-a-connaux/
LOCATION:Eglise de Connaux\, Eglise Saint Benoit\, Pl. de l'Église\, 30330 Connaux\, Connaux\, occitanie\, 30200\, France
ORGANIZER;CN="Ensemble Paroissial de Bagnols sur C%C3%A8ze":MAILTO:paroisse.stjeanbaptiste@orange.fr
END:VEVENT
BEGIN:VEVENT
DTSTART;TZID=UTC:20251217T103000
DTEND;TZID=UTC:20251217T113000
DTSTAMP:20260425T120440
CREATED:20251205T135925Z
LAST-MODIFIED:20251205T135925Z
UID:4993-1765967400-1765971000@cathobagnols.fr
SUMMARY:Chorale paroissiale Cèze et collines
DESCRIPTION:La chorale paroissiale Cèze et collines offrira des chants de Noël\, dans la cour de l’EHPAD Saint Roch\, rue Fernand Crémieux.\nBienvenue à tous
URL:https://cathobagnols.fr/event/chorale-paroissiale-ceze-et-collines/
LOCATION:EHPAD St Roch\, 29 rue Crémieux\, Bagnols sur Cèze\, 30200\, France
END:VEVENT
BEGIN:VEVENT
DTSTART;TZID=UTC:20251217T143000
DTEND;TZID=UTC:20251217T173000
DTSTAMP:20260425T120440
CREATED:20251212T082535Z
LAST-MODIFIED:20251212T082535Z
UID:5020-1765981800-1765992600@cathobagnols.fr
SUMMARY:Arbre de Noël des enfants de la Catéchèse et de l’Éveil à la foi
DESCRIPTION:
URL:https://cathobagnols.fr/event/arbre-de-noel-des-enfants-de-la-catechese-et-de-leveil-a-la-foi/
LOCATION:Espace Saint Jean XXIII\, chapelle de l'ancyse\, BAGNOLS SUR CEZE\, 30200\, France
ORGANIZER;CN="Ensemble Paroissial de Bagnols sur C%C3%A8ze":MAILTO:paroisse.stjeanbaptiste@orange.fr
END:VEVENT
BEGIN:VEVENT
DTSTART;TZID=UTC:20251217T180000
DTEND;TZID=UTC:20251217T200000
DTSTAMP:20260425T120440
CREATED:20251212T083240Z
LAST-MODIFIED:20251212T083240Z
UID:5024-1765994400-1766001600@cathobagnols.fr
SUMMARY:rencontre des jeunes lycéens qui se préparent à la Confirmation
DESCRIPTION:
URL:https://cathobagnols.fr/event/rencontre-des-jeunes-lyceens-qui-se-preparent-a-la-confirmation-2/
LOCATION:Espace Saint Jean XXIII\, chapelle de l'ancyse\, BAGNOLS SUR CEZE\, 30200\, France
END:VEVENT
END:VCALENDAR