BEGIN:VCALENDAR
VERSION:2.0
PRODID:-//Ensemble Paroissial de Bagnols-sur-C&egrave;ze - ECPv6.15.20//NONSGML v1.0//EN
CALSCALE:GREGORIAN
METHOD:PUBLISH
X-ORIGINAL-URL:https://cathobagnols.fr
X-WR-CALDESC:Évènements pour Ensemble Paroissial de Bagnols-sur-C&egrave;ze
REFRESH-INTERVAL;VALUE=DURATION:PT1H
X-Robots-Tag:noindex
X-PUBLISHED-TTL:PT1H
BEGIN:VTIMEZONE
TZID:UTC
BEGIN:STANDARD
TZOFFSETFROM:+0000
TZOFFSETTO:+0000
TZNAME:UTC
DTSTART:20240101T000000
END:STANDARD
END:VTIMEZONE
BEGIN:VEVENT
DTSTART;TZID=UTC:20251209T150000
DTEND;TZID=UTC:20251209T160000
DTSTAMP:20260425T103851
CREATED:20251205T133829Z
LAST-MODIFIED:20251205T133829Z
UID:4978-1765292400-1765296000@cathobagnols.fr
SUMMARY:Messe à l’EHPAD de St Émétery
DESCRIPTION:les paroissiens sont accueillis avec joie.
URL:https://cathobagnols.fr/event/messe-a-lehpad-de-st-emetery-2/
LOCATION:St Emetery\, 61 chemin Horts\, Chusclan\, 30200\, France
ORGANIZER;CN="Ensemble Paroissial de Bagnols sur C%C3%A8ze":MAILTO:paroisse.stjeanbaptiste@orange.fr
END:VEVENT
BEGIN:VEVENT
DTSTART;TZID=UTC:20251209T200000
DTEND;TZID=UTC:20251209T220000
DTSTAMP:20260425T103851
CREATED:20250624T192911Z
LAST-MODIFIED:20251205T133930Z
UID:4397-1765310400-1765317600@cathobagnols.fr
SUMMARY:Réunion bible et questions de foi
DESCRIPTION:le P. Luc anime la rencontre sur l’évangile de St Jean
URL:https://cathobagnols.fr/event/reunion-bible-et-questions-de-foi-4/
LOCATION:Espace Saint Jean XXIII\, chapelle de l'ancyse\, BAGNOLS SUR CEZE\, 30200\, France
ORGANIZER;CN="Ensemble Paroissial de Bagnols sur C%C3%A8ze":MAILTO:paroisse.stjeanbaptiste@orange.fr
END:VEVENT
END:VCALENDAR