BEGIN:VCALENDAR
VERSION:2.0
PRODID:-//Ensemble Paroissial de Bagnols-sur-C&egrave;ze - ECPv6.15.20//NONSGML v1.0//EN
CALSCALE:GREGORIAN
METHOD:PUBLISH
X-WR-CALNAME:Ensemble Paroissial de Bagnols-sur-C&egrave;ze
X-ORIGINAL-URL:https://cathobagnols.fr
X-WR-CALDESC:Évènements pour Ensemble Paroissial de Bagnols-sur-C&egrave;ze
REFRESH-INTERVAL;VALUE=DURATION:PT1H
X-Robots-Tag:noindex
X-PUBLISHED-TTL:PT1H
BEGIN:VTIMEZONE
TZID:UTC
BEGIN:STANDARD
TZOFFSETFROM:+0000
TZOFFSETTO:+0000
TZNAME:UTC
DTSTART:20240101T000000
END:STANDARD
END:VTIMEZONE
BEGIN:VEVENT
DTSTART;TZID=UTC:20251207T140000
DTEND;TZID=UTC:20251207T150000
DTSTAMP:20260425T104917
CREATED:20251128T093323Z
LAST-MODIFIED:20251128T093323Z
UID:4955-1765116000-1765119600@cathobagnols.fr
SUMMARY:Petit concert du Comité des Fêtes  avec la Chorale Desidela
DESCRIPTION:St Marcel de Careiret avec la Chorale Desidela
URL:https://cathobagnols.fr/event/petit-concert-du-comite-des-fetes-avec-la-chorale-desidela/
LOCATION:Eglise de St Marcel de Careiret\, 18 ancienne route de Bagnols\, Saint-Marcel-de-Careiret\, 30330\, France
END:VEVENT
BEGIN:VEVENT
DTSTART;TZID=UTC:20251207T170000
DTEND;TZID=UTC:20251207T180000
DTSTAMP:20260425T104917
CREATED:20251128T093507Z
LAST-MODIFIED:20251128T093507Z
UID:4957-1765126800-1765130400@cathobagnols.fr
SUMMARY:Concert du Chœur de Cèze à Bagnols
DESCRIPTION:
URL:https://cathobagnols.fr/event/concert-du-choeur-de-ceze-a-bagnols/
LOCATION:Eglise Saint Jean-Baptiste\, 6 Pl. Saint-Jean 4\,\, Bagnols-sur-Cèze\, france\, 30200
END:VEVENT
END:VCALENDAR