BEGIN:VCALENDAR
VERSION:2.0
PRODID:-//Ensemble Paroissial de Bagnols-sur-C&egrave;ze - ECPv6.15.20//NONSGML v1.0//EN
CALSCALE:GREGORIAN
METHOD:PUBLISH
X-WR-CALNAME:Ensemble Paroissial de Bagnols-sur-C&egrave;ze
X-ORIGINAL-URL:https://cathobagnols.fr
X-WR-CALDESC:Évènements pour Ensemble Paroissial de Bagnols-sur-C&egrave;ze
REFRESH-INTERVAL;VALUE=DURATION:PT1H
X-Robots-Tag:noindex
X-PUBLISHED-TTL:PT1H
BEGIN:VTIMEZONE
TZID:UTC
BEGIN:STANDARD
TZOFFSETFROM:+0000
TZOFFSETTO:+0000
TZNAME:UTC
DTSTART:20240101T000000
END:STANDARD
END:VTIMEZONE
BEGIN:VEVENT
DTSTART;TZID=UTC:20251118T150000
DTEND;TZID=UTC:20251118T160000
DTSTAMP:20260425T133555
CREATED:20251114T170617Z
LAST-MODIFIED:20251114T170617Z
UID:4864-1763478000-1763481600@cathobagnols.fr
SUMMARY:Messe à l’EHPAD de Bonnefond
DESCRIPTION:Messe ouverte aux paroissiens.
URL:https://cathobagnols.fr/event/messe-a-lehpad-de-bonnefond/
LOCATION:EHPAD Bonnefond\, 4 bis Montée des Oliviers\, Bagnols sur Cèze\, 30200\, France
ORGANIZER;CN="Ensemble Paroissial de Bagnols sur C%C3%A8ze":MAILTO:paroisse.stjeanbaptiste@orange.fr
END:VEVENT
BEGIN:VEVENT
DTSTART;TZID=UTC:20251118T150000
DTEND;TZID=UTC:20251118T163000
DTSTAMP:20260425T133555
CREATED:20250724T130810Z
LAST-MODIFIED:20251114T170755Z
UID:4485-1763478000-1763483400@cathobagnols.fr
SUMMARY:Rencontres bibliques autour de St Paul\, ses lettres et les premières communautés chrétienne
DESCRIPTION:Rencontre suivie d’un petit moment convivial. Le but de ces rencontres : découvrir les Ecritures par la lecture ensemble ; lecture commentée\, instruite\, partagée.\nLes questions qui surgissent suscitent des échanges.\nS’imprégner ensemble de la Parole de Dieu\, pour être mieux capable de rendre compte de notre foi. \nPour cette rencontre:\nLire Galates 3\,5 à 5\,25 :\nSauvés par la foi ; appelés à passer de la servitude au Service.
URL:https://cathobagnols.fr/event/rencontres-bibliques-autour-de-st-paul-ses-lettres-et-les-premieres-communautes-chretienne-2/
LOCATION:Espace Saint Jean XXIII\, chapelle de l'ancyse\, BAGNOLS SUR CEZE\, 30200\, France
ORGANIZER;CN="Jean-Fran%C3%A7ois Doucet":MAILTO:Jefba30200@outlook.fr
END:VEVENT
END:VCALENDAR