BEGIN:VCALENDAR
VERSION:2.0
PRODID:-//Ensemble Paroissial de Bagnols-sur-C&egrave;ze - ECPv6.15.20//NONSGML v1.0//EN
CALSCALE:GREGORIAN
METHOD:PUBLISH
X-WR-CALNAME:Ensemble Paroissial de Bagnols-sur-C&egrave;ze
X-ORIGINAL-URL:https://cathobagnols.fr
X-WR-CALDESC:Évènements pour Ensemble Paroissial de Bagnols-sur-C&egrave;ze
REFRESH-INTERVAL;VALUE=DURATION:PT1H
X-Robots-Tag:noindex
X-PUBLISHED-TTL:PT1H
BEGIN:VTIMEZONE
TZID:UTC
BEGIN:STANDARD
TZOFFSETFROM:+0000
TZOFFSETTO:+0000
TZNAME:UTC
DTSTART:20240101T000000
END:STANDARD
END:VTIMEZONE
BEGIN:VEVENT
DTSTART;TZID=UTC:20251114T121500
DTEND;TZID=UTC:20251114T124500
DTSTAMP:20260425T120757
CREATED:20251107T080355Z
LAST-MODIFIED:20251107T080901Z
UID:4851-1763122500-1763124300@cathobagnols.fr
SUMMARY:Prière pour la Création
DESCRIPTION:prière pour la Création à l’occasion de la COP30 qui se\ndéroule à Belèm (Brésil). \nPRIÈRE POUR SOUTENIR LE TRAVAIL DE LA COP30\nLa 30ème Conférence des Nations Unies sur les changements climatiques (COP 30) se tiendra au cœur de l’Amazonie\, à Belém\, au Brésil\, du 10 au 21 novembre 2025.\nElle représente une étape historique\, dix ans après l’Accord de Paris et la publication de Laudato Si’. Pour la première fois\, l’Amazonie accueillera la plus importante conférence mondiale sur le climat. Il s’agit d’un moment décisif pour renouveler les engagements mondiaux en faveur d’un avenir juste et durable\, fondé sur la clameur de la Terre et la clameur des pauvres. \nLors de la conférence : “Susciter l’espérance »\, en septembre 2025\, le pape Léon XIV s’est adressé aux participants à la\nconférence avec ces mots : “ J’espère que les prochains sommets internationaux des Nations unies– la Conférence sur les changements climatiques de 2025 (COP 30) […] – écouteront le cri de la Terre et le cri des pauvres\, des familles\, des peuples autochtones\, des migrants involontaires et des croyants à travers le monde. ” \nSi vous souhaitez soutenir ce grand mouvement d’Espérance\, nous pourrons nous réunir pour prier ensemble pour les dirigeants\, pour les militants de tout pays\, pour les scientifiques\, pour les hommes et les femmes de bonne volonté\, pour que nous soyons attentifs au bien commun\, que nous\naidions à faire aboutir des décisions concrètes et engageantes pour entrer vers une transition efficace pour préserver notre\nmaison commune.\nRendez-vous prière : vendredi 14 novembre 12h15 à l’église de Chusclan.\nSi vous souhaitez que je vous envoie les textes de la prière\, merci de me l’indiquer par SMS. Denis ODE (06 82 78 85 53)
URL:https://cathobagnols.fr/event/priere-pour-la-creation/
LOCATION:Église de Chusclan
END:VEVENT
BEGIN:VEVENT
DTSTART;TZID=UTC:20251114T140000
DTEND;TZID=UTC:20251114T150000
DTSTAMP:20260425T120757
CREATED:20251107T081057Z
LAST-MODIFIED:20251107T081057Z
UID:4855-1763128800-1763132400@cathobagnols.fr
SUMMARY:Messe à l’EHPAD des 7 Sources
DESCRIPTION:Réservée aux résidents et leurs familles
URL:https://cathobagnols.fr/event/messe-a-lehpad-des-7-sources-11/
LOCATION:EHPAD des 7 sources\, 5 Rue Jacqueline Bret Andre\, Bagnols-Sur-Cèze.\, 30200\, France
ORGANIZER;CN="Ensemble Paroissial de Bagnols sur C%C3%A8ze":MAILTO:paroisse.stjeanbaptiste@orange.fr
END:VEVENT
END:VCALENDAR