BEGIN:VCALENDAR
VERSION:2.0
PRODID:-//Ensemble Paroissial de Bagnols-sur-C&egrave;ze - ECPv6.15.20//NONSGML v1.0//EN
CALSCALE:GREGORIAN
METHOD:PUBLISH
X-WR-CALNAME:Ensemble Paroissial de Bagnols-sur-C&egrave;ze
X-ORIGINAL-URL:https://cathobagnols.fr
X-WR-CALDESC:Évènements pour Ensemble Paroissial de Bagnols-sur-C&egrave;ze
REFRESH-INTERVAL;VALUE=DURATION:PT1H
X-Robots-Tag:noindex
X-PUBLISHED-TTL:PT1H
BEGIN:VTIMEZONE
TZID:UTC
BEGIN:STANDARD
TZOFFSETFROM:+0000
TZOFFSETTO:+0000
TZNAME:UTC
DTSTART:20240101T000000
END:STANDARD
END:VTIMEZONE
BEGIN:VEVENT
DTSTART;TZID=UTC:20251112T143000
DTEND;TZID=UTC:20251112T163000
DTSTAMP:20260425T120806
CREATED:20251104T141425Z
LAST-MODIFIED:20251104T141628Z
UID:4844-1762957800-1762965000@cathobagnols.fr
SUMMARY:Réunion équipe de communication du denier
DESCRIPTION:
URL:https://cathobagnols.fr/event/reunion-equipe-du-denier/
LOCATION:Espace Saint Jean XXIII\, chapelle de l'ancyse\, BAGNOLS SUR CEZE\, 30200\, France
ORGANIZER;CN="Nicole Desmouli%C3%A8re":MAILTO:nicole.desmouliere@gmail.com
END:VEVENT
BEGIN:VEVENT
DTSTART;TZID=UTC:20251112T183000
DTEND;TZID=UTC:20251112T200000
DTSTAMP:20260425T120806
CREATED:20251107T080019Z
LAST-MODIFIED:20251107T080019Z
UID:4849-1762972200-1762977600@cathobagnols.fr
SUMMARY:Rencontre des catéchumènes
DESCRIPTION:
URL:https://cathobagnols.fr/event/rencontre-des-catechumenes-6/
LOCATION:Espace Saint Jean XXIII\, chapelle de l'ancyse\, BAGNOLS SUR CEZE\, 30200\, France
ORGANIZER;CN="Ensemble Paroissial de Bagnols sur C%C3%A8ze":MAILTO:paroisse.stjeanbaptiste@orange.fr
END:VEVENT
END:VCALENDAR