BEGIN:VCALENDAR
VERSION:2.0
PRODID:-//Ensemble Paroissial de Bagnols-sur-C&egrave;ze - ECPv6.15.20//NONSGML v1.0//EN
CALSCALE:GREGORIAN
METHOD:PUBLISH
X-WR-CALNAME:Ensemble Paroissial de Bagnols-sur-C&egrave;ze
X-ORIGINAL-URL:https://cathobagnols.fr
X-WR-CALDESC:Évènements pour Ensemble Paroissial de Bagnols-sur-C&egrave;ze
REFRESH-INTERVAL;VALUE=DURATION:PT1H
X-Robots-Tag:noindex
X-PUBLISHED-TTL:PT1H
BEGIN:VTIMEZONE
TZID:UTC
BEGIN:STANDARD
TZOFFSETFROM:+0000
TZOFFSETTO:+0000
TZNAME:UTC
DTSTART:20240101T000000
END:STANDARD
END:VTIMEZONE
BEGIN:VEVENT
DTSTART;TZID=UTC:20251111T100000
DTEND;TZID=UTC:20251111T110000
DTSTAMP:20260425T120810
CREATED:20251102T171813Z
LAST-MODIFIED:20251102T171813Z
UID:4839-1762855200-1762858800@cathobagnols.fr
SUMMARY:Armistice de la grande Guerre et fête de St Martin
DESCRIPTION:Messe à St Jean-Baptiste\navec les représentants des Anciens combattants.\nPrière pour les morts au champ d’honneur.
URL:https://cathobagnols.fr/event/armistice-de-la-grande-guerre-et-fete-de-st-martin/
LOCATION:Eglise Saint Jean-Baptiste\, 6 Pl. Saint-Jean 4\,\, Bagnols-sur-Cèze\, france\, 30200
END:VEVENT
BEGIN:VEVENT
DTSTART;TZID=UTC:20251111T100000
DTEND;TZID=UTC:20251111T110000
DTSTAMP:20260425T120810
CREATED:20251102T172012Z
LAST-MODIFIED:20251102T172012Z
UID:4842-1762855200-1762858800@cathobagnols.fr
SUMMARY:Armistice de la grande Guerre et fête de St Martin
DESCRIPTION:à la chapelle St Martin à Tresques\navec les représentants des Anciens combattants.\nPrière pour les morts au champ d’honneur.
URL:https://cathobagnols.fr/event/armistice-de-la-grande-guerre-et-fete-de-st-martin-2/
LOCATION:Chapelle saint Martin\, Tresques\, 30330\, France
ORGANIZER;CN="Ensemble Paroissial de Bagnols sur C%C3%A8ze":MAILTO:paroisse.stjeanbaptiste@orange.fr
END:VEVENT
BEGIN:VEVENT
DTSTART;TZID=UTC:20251111T200000
DTEND;TZID=UTC:20251111T220000
DTSTAMP:20260425T120810
CREATED:20251107T075758Z
LAST-MODIFIED:20251107T075758Z
UID:4847-1762891200-1762898400@cathobagnols.fr
SUMMARY:Rencontre ”Bible et question de foi” à partir de l’évangile de St Jean.
DESCRIPTION:
URL:https://cathobagnols.fr/event/rencontre-bible-et-question-de-foi-a-partir-de-levangile-de-st-jean/
LOCATION:Espace Saint Jean XXIII\, chapelle de l'ancyse\, BAGNOLS SUR CEZE\, 30200\, France
ORGANIZER;CN="Ensemble Paroissial de Bagnols sur C%C3%A8ze":MAILTO:paroisse.stjeanbaptiste@orange.fr
END:VEVENT
END:VCALENDAR