BEGIN:VCALENDAR
VERSION:2.0
PRODID:-//Ensemble Paroissial de Bagnols-sur-C&egrave;ze - ECPv6.15.20//NONSGML v1.0//EN
CALSCALE:GREGORIAN
METHOD:PUBLISH
X-ORIGINAL-URL:https://cathobagnols.fr
X-WR-CALDESC:Évènements pour Ensemble Paroissial de Bagnols-sur-C&egrave;ze
REFRESH-INTERVAL;VALUE=DURATION:PT1H
X-Robots-Tag:noindex
X-PUBLISHED-TTL:PT1H
BEGIN:VTIMEZONE
TZID:UTC
BEGIN:STANDARD
TZOFFSETFROM:+0000
TZOFFSETTO:+0000
TZNAME:UTC
DTSTART:20240101T000000
END:STANDARD
END:VTIMEZONE
BEGIN:VEVENT
DTSTART;TZID=UTC:20251109T140000
DTEND;TZID=UTC:20251109T190000
DTSTAMP:20260425T103603
CREATED:20251026T134711Z
LAST-MODIFIED:20251102T171346Z
UID:4816-1762696800-1762714800@cathobagnols.fr
SUMMARY:Grand loto de l'Hospitalité à Combes
DESCRIPTION:à la salle des fêtes de Combes\nLe bénéfice de ce loto sera intégralement utilisé pour aider des personnes malades\, handicapées ou tout simplement fragilisées par le grand âge\, aux revenus modestes\, à participer à un pèlerinage à Lourdes.\nNous vous attendons nombreux et par avance un grand merci pour votre générosité.
URL:https://cathobagnols.fr/event/grand-loto-de-lhospitalite-a-combe/
LOCATION:Salle des fêtes de Combes\, Combe\, France
END:VEVENT
END:VCALENDAR