BEGIN:VCALENDAR
VERSION:2.0
PRODID:-//Ensemble Paroissial de Bagnols-sur-C&egrave;ze - ECPv6.15.20//NONSGML v1.0//EN
CALSCALE:GREGORIAN
METHOD:PUBLISH
X-WR-CALNAME:Ensemble Paroissial de Bagnols-sur-C&egrave;ze
X-ORIGINAL-URL:https://cathobagnols.fr
X-WR-CALDESC:Évènements pour Ensemble Paroissial de Bagnols-sur-C&egrave;ze
REFRESH-INTERVAL;VALUE=DURATION:PT1H
X-Robots-Tag:noindex
X-PUBLISHED-TTL:PT1H
BEGIN:VTIMEZONE
TZID:UTC
BEGIN:STANDARD
TZOFFSETFROM:+0000
TZOFFSETTO:+0000
TZNAME:UTC
DTSTART:20240101T000000
END:STANDARD
END:VTIMEZONE
BEGIN:VEVENT
DTSTART;TZID=UTC:20251104T140000
DTEND;TZID=UTC:20251104T163000
DTSTAMP:20260425T133329
CREATED:20250923T145256Z
LAST-MODIFIED:20250923T145256Z
UID:4633-1762264800-1762273800@cathobagnols.fr
SUMMARY:Réunion équipe communication du denier de l'Eglise
DESCRIPTION:
URL:https://cathobagnols.fr/event/reunion-equipe-communication-du-denier-de-leglise/
LOCATION:Espace Saint Jean XXIII\, chapelle de l'ancyse\, BAGNOLS SUR CEZE\, 30200\, France
ORGANIZER;CN="Nicole Desmouli%C3%A8re":MAILTO:nicole.desmouliere@gmail.com
END:VEVENT
BEGIN:VEVENT
DTSTART;TZID=UTC:20251104T150000
DTEND;TZID=UTC:20251104T160000
DTSTAMP:20260425T133329
CREATED:20251102T171131Z
LAST-MODIFIED:20251102T171131Z
UID:4835-1762268400-1762272000@cathobagnols.fr
SUMMARY:Messe à l'EHPAD St Roch
DESCRIPTION:messe ouverte à tous
URL:https://cathobagnols.fr/event/messe-a-lehpad-st-roch-13/
LOCATION:EHPAD St Roch\, 29 rue Crémieux\, Bagnols sur Cèze\, 30200\, France
ORGANIZER;CN="Ensemble Paroissial de Bagnols sur C%C3%A8ze":MAILTO:paroisse.stjeanbaptiste@orange.fr
END:VEVENT
END:VCALENDAR