BEGIN:VCALENDAR
VERSION:2.0
PRODID:-//Ensemble Paroissial de Bagnols-sur-C&egrave;ze - ECPv6.15.20//NONSGML v1.0//EN
CALSCALE:GREGORIAN
METHOD:PUBLISH
X-WR-CALNAME:Ensemble Paroissial de Bagnols-sur-C&egrave;ze
X-ORIGINAL-URL:https://cathobagnols.fr
X-WR-CALDESC:Évènements pour Ensemble Paroissial de Bagnols-sur-C&egrave;ze
REFRESH-INTERVAL;VALUE=DURATION:PT1H
X-Robots-Tag:noindex
X-PUBLISHED-TTL:PT1H
BEGIN:VTIMEZONE
TZID:UTC
BEGIN:STANDARD
TZOFFSETFROM:+0000
TZOFFSETTO:+0000
TZNAME:UTC
DTSTART:20240101T000000
END:STANDARD
END:VTIMEZONE
BEGIN:VEVENT
DTSTART;TZID=UTC:20251031T190000
DTEND;TZID=UTC:20251031T223000
DTSTAMP:20260425T103030
CREATED:20251008T164533Z
LAST-MODIFIED:20251018T121408Z
UID:4725-1761937200-1761949800@cathobagnols.fr
SUMMARY:Ciné-débat scout : thème écologie
DESCRIPTION:Le groupe des Scouts et Guides de France de Bagnols-sur-Cèze vous propose de participer à\nune soirée ciné-débat sur l’avenir de la planète et sur l’écologie autour du film « Legacy ” de Yann Arthus-Bertrand\, le vendredi 31 octobre de 20h à 22h à la chapelle de l’Ancise.\nCette soirée est ouverte à tous (de 7 à 77 ans et plus) et aux personnes de tous horizons\n(scouts\, aumônerie\, groupe Samuel\, paroissiens…).
URL:https://cathobagnols.fr/event/cine-debat-scout-theme-ecologie/
LOCATION:Espace Saint Jean XXIII\, chapelle de l'ancyse\, BAGNOLS SUR CEZE\, 30200\, France
ORGANIZER;CN="Scout et Guide de France troupe de Bagnols Sur C%C3%A8ze":MAILTO:christine.dargent231@orange.fr
END:VEVENT
END:VCALENDAR