BEGIN:VCALENDAR
VERSION:2.0
PRODID:-//Ensemble Paroissial de Bagnols-sur-C&egrave;ze - ECPv6.15.20//NONSGML v1.0//EN
CALSCALE:GREGORIAN
METHOD:PUBLISH
X-WR-CALNAME:Ensemble Paroissial de Bagnols-sur-C&egrave;ze
X-ORIGINAL-URL:https://cathobagnols.fr
X-WR-CALDESC:Évènements pour Ensemble Paroissial de Bagnols-sur-C&egrave;ze
REFRESH-INTERVAL;VALUE=DURATION:PT1H
X-Robots-Tag:noindex
X-PUBLISHED-TTL:PT1H
BEGIN:VTIMEZONE
TZID:UTC
BEGIN:STANDARD
TZOFFSETFROM:+0000
TZOFFSETTO:+0000
TZNAME:UTC
DTSTART:20240101T000000
END:STANDARD
END:VTIMEZONE
BEGIN:VEVENT
DTSTART;TZID=UTC:20251024T080000
DTEND;TZID=UTC:20251027T170000
DTSTAMP:20260425T120635
CREATED:20251017T154611Z
LAST-MODIFIED:20251017T154703Z
UID:4767-1761292800-1761584400@cathobagnols.fr
SUMMARY:Pèlerinage à Lourdes
DESCRIPTION:Pèlerinage des gardians
URL:https://cathobagnols.fr/event/pelerinage-a-lourdes-3/
ORGANIZER;CN="Ensemble Paroissial de Bagnols sur C%C3%A8ze":MAILTO:paroisse.stjeanbaptiste@orange.fr
END:VEVENT
BEGIN:VEVENT
DTSTART;TZID=UTC:20251025T103000
DTEND;TZID=UTC:20251025T113000
DTSTAMP:20260425T120635
CREATED:20251017T153152Z
LAST-MODIFIED:20251017T153152Z
UID:4763-1761388200-1761391800@cathobagnols.fr
SUMMARY:Baptême à Bagnols
DESCRIPTION:
URL:https://cathobagnols.fr/event/bapteme-a-bagnols/
LOCATION:Eglise Saint Jean-Baptiste\, 6 Pl. Saint-Jean 4\,\, Bagnols-sur-Cèze\, france\, 30200
ORGANIZER;CN="Ensemble Paroissial de Bagnols sur C%C3%A8ze":MAILTO:paroisse.stjeanbaptiste@orange.fr
END:VEVENT
BEGIN:VEVENT
DTSTART;TZID=UTC:20251025T160000
DTEND;TZID=UTC:20251025T170000
DTSTAMP:20260425T120635
CREATED:20251017T153328Z
LAST-MODIFIED:20251017T153328Z
UID:4765-1761408000-1761411600@cathobagnols.fr
SUMMARY:Mariage à Saint André d'Olérargues
DESCRIPTION:
URL:https://cathobagnols.fr/event/mariage-a-saint-andre-dolerargues/
LOCATION:Eglise de Saint André d’Olérargues\, Saint André d'Olérargues\, 30330\, France
ORGANIZER;CN="Ensemble Paroissial de Bagnols sur C%C3%A8ze":MAILTO:paroisse.stjeanbaptiste@orange.fr
END:VEVENT
END:VCALENDAR